BEGIN:VCALENDAR
VERSION:2.0
PRODID:-//Vogel- en Natuurwacht Flevoland - ECPv6.15.20//NONSGML v1.0//EN
CALSCALE:GREGORIAN
METHOD:PUBLISH
X-ORIGINAL-URL:https://www.vogelwachtflevoland.nl
X-WR-CALDESC:Evenementen voor Vogel- en Natuurwacht Flevoland
REFRESH-INTERVAL;VALUE=DURATION:PT1H
X-Robots-Tag:noindex
X-PUBLISHED-TTL:PT1H
BEGIN:VTIMEZONE
TZID:Europe/Amsterdam
BEGIN:DAYLIGHT
TZOFFSETFROM:+0100
TZOFFSETTO:+0200
TZNAME:CEST
DTSTART:20240331T010000
END:DAYLIGHT
BEGIN:STANDARD
TZOFFSETFROM:+0200
TZOFFSETTO:+0100
TZNAME:CET
DTSTART:20241027T010000
END:STANDARD
BEGIN:DAYLIGHT
TZOFFSETFROM:+0100
TZOFFSETTO:+0200
TZNAME:CEST
DTSTART:20250330T010000
END:DAYLIGHT
BEGIN:STANDARD
TZOFFSETFROM:+0200
TZOFFSETTO:+0100
TZNAME:CET
DTSTART:20251026T010000
END:STANDARD
BEGIN:DAYLIGHT
TZOFFSETFROM:+0100
TZOFFSETTO:+0200
TZNAME:CEST
DTSTART:20260329T010000
END:DAYLIGHT
BEGIN:STANDARD
TZOFFSETFROM:+0200
TZOFFSETTO:+0100
TZNAME:CET
DTSTART:20261025T010000
END:STANDARD
END:VTIMEZONE
BEGIN:VEVENT
DTSTART;TZID=Europe/Amsterdam:20250719T070000
DTEND;TZID=Europe/Amsterdam:20250719T170000
DTSTAMP:20260420T070802
CREATED:20250706T083351Z
LAST-MODIFIED:20250706T084448Z
UID:19670-1752908400-1752944400@www.vogelwachtflevoland.nl
SUMMARY:Wandeling Moerputten (op zoek naar het Pimpernelblauwtje) o.l.v. Greet Boomhouwer
DESCRIPTION:We gaan naar de Moerputten bij &lsquo;s-Hertogenbosch om daar te zoeken naar een zeer zeldzame vlinder\, het Pimpernelblauwtje. De vlinder zet haar eitjes af op de waardplant\, de Grote Pimpernel. De rups die uit het eitje komt eet zich vol en wordt door mieren meegenomen naar hun nest. In het mierennest vindt de verpopping plaats. In juli komt de vlinder tevoorschijn\, die twee dagen de tijd heeft om te paren en eitjes te leggen.\nWe lopen de gele wandelroute in de Moerputten\, die is 4\,7 kilometer (zie www.staatsbosbeheer.nl/-/media/groene-woud/boswachterspad-bruggenroute-moerputten.pdf). Dit is een prachtige historische wandeling\, waarbij ook veel libellen en andere leuke vlinders en insecten te zien zijn.\nJe kunt je aanmelden voor de excursie via activiteiten@vogelwachtflevoland.nl met vermelding van de excursie\, datum en je mobiele nummer.\n=> Maximaal 15 personen <=.\nBij slecht weer gaat de excursie niet door.\n\n© Nelleke Seegers &ndash; Pimpernelblauwtje
URL:https://www.vogelwachtflevoland.nl/event/wandeling-moerputten-op-zoek-naar-het-pimpernelblauwtje-o-l-v-greet-boomhouwer/
CATEGORIES:Excursie
END:VEVENT
BEGIN:VEVENT
DTSTART;TZID=Europe/Amsterdam:20250723T200000
DTEND;TZID=Europe/Amsterdam:20250723T220000
DTSTAMP:20260420T070802
CREATED:20250706T085907Z
LAST-MODIFIED:20250706T090426Z
UID:19681-1753300800-1753308000@www.vogelwachtflevoland.nl
SUMMARY:Workshop : Determinatie vogelveren o.l.v. RenÃ© Alma
DESCRIPTION:Wil je eens op een totaal andere manier (op microniveau) naar vogels leren kijken? Dan is deze avond je kans!\nWaarschijnlijk is het wel eens voorgekomen dat je een veer vindt en je je afvraagt van welke vogel die is. Die vraag krijg ik namelijk regelmatig. In onze vogelcursus\, die elk jaar plaatsvindt\, is dit één van de vaste onderwerpen die aan bod komen. De reacties van cursisten zijn elk jaar positief; daarom nu een reden om deze kans eens aan iedereen aan te bieden. Tijdens deze avond komen veel theoretische aspecten rondom veren aan bod. Met deze theoretische kennis kun je ook dezelfde avond in de praktijk aan de gang: aan de hand van veel meegebrachte veren (van heel klein tot supergroot) kun je leren om vast te stellen van welke vogel de veer afkomstig is. Natuurlijk mag je (graag zelfs!) ook je eigen veren meenemen. Als je nog geen veren hebt\, kun je de komende weken nog zoeken. Het is nu de tijd dat vogels veren ruien&hellip;\n\n© René Alma &ndash; Pronkstukken uit privé collectie: van welke vogels zijn deze veren?
URL:https://www.vogelwachtflevoland.nl/event/workshop-determinatie-vogelveren-o-l-v-rene-alma/
CATEGORIES:Lezing,Workshop
END:VEVENT
BEGIN:VEVENT
DTSTART;TZID=Europe/Amsterdam:20250726T070000
DTEND;TZID=Europe/Amsterdam:20250726T130000
DTSTAMP:20260420T070802
CREATED:20250706T084230Z
LAST-MODIFIED:20250706T084230Z
UID:19674-1753513200-1753534800@www.vogelwachtflevoland.nl
SUMMARY:Libellenexcursie Leersumse Veld o.l.v. Henk van de Bovenkamp
DESCRIPTION:Op 26 juli gaan we op zoek naar libellen in één van de interessantste libellengebieden in Nederland\, het Leersumse veld. In dit gebied worden tientallen libellensoorten gezien. Eind juli hebben we goede kans op vrij zeldzame soorten als de Zwarte Heidelibel\, de Zwervende Pantserjuffer en de Tangpantserjuffer\, maar ook op een vrij algemene soort die we in Flevoland bijna niet zien\, de Zwervende Heidelibel.\nOm de libellen goed te kunnen bekijken is het handig als je een verrekijker bij je hebt die op korte afstand kan scherpstellen of een fototoestel dat genoeg kan inzoomen.\nJe kunt je aanmelden voor de excursie via activiteiten@vogelwachtflevoland.nl met vermelding van de excursie\, datum en je mobiele nummer.\n=> Maximaal 7 deelnemers! <=\nBij slecht weer gaat de excursie niet door.\n\n© Henk van de Bovenkamp &ndash; Zuidelijke Glazenmaker
URL:https://www.vogelwachtflevoland.nl/event/libellenexcursie-leersumse-veld-o-l-v-henk-van-de-bovenkamp/
CATEGORIES:Excursie
END:VEVENT
END:VCALENDAR