BEGIN:VCALENDAR
VERSION:2.0
PRODID:-//Vogel- en Natuurwacht Flevoland - ECPv6.15.20//NONSGML v1.0//EN
CALSCALE:GREGORIAN
METHOD:PUBLISH
X-ORIGINAL-URL:https://www.vogelwachtflevoland.nl
X-WR-CALDESC:Evenementen voor Vogel- en Natuurwacht Flevoland
REFRESH-INTERVAL;VALUE=DURATION:PT1H
X-Robots-Tag:noindex
X-PUBLISHED-TTL:PT1H
BEGIN:VTIMEZONE
TZID:Europe/Amsterdam
BEGIN:DAYLIGHT
TZOFFSETFROM:+0100
TZOFFSETTO:+0200
TZNAME:CEST
DTSTART:20240331T010000
END:DAYLIGHT
BEGIN:STANDARD
TZOFFSETFROM:+0200
TZOFFSETTO:+0100
TZNAME:CET
DTSTART:20241027T010000
END:STANDARD
BEGIN:DAYLIGHT
TZOFFSETFROM:+0100
TZOFFSETTO:+0200
TZNAME:CEST
DTSTART:20250330T010000
END:DAYLIGHT
BEGIN:STANDARD
TZOFFSETFROM:+0200
TZOFFSETTO:+0100
TZNAME:CET
DTSTART:20251026T010000
END:STANDARD
BEGIN:DAYLIGHT
TZOFFSETFROM:+0100
TZOFFSETTO:+0200
TZNAME:CEST
DTSTART:20260329T010000
END:DAYLIGHT
BEGIN:STANDARD
TZOFFSETFROM:+0200
TZOFFSETTO:+0100
TZNAME:CET
DTSTART:20261025T010000
END:STANDARD
END:VTIMEZONE
BEGIN:VEVENT
DTSTART;TZID=Europe/Amsterdam:20250625T200000
DTEND;TZID=Europe/Amsterdam:20250625T220000
DTSTAMP:20260421T052300
CREATED:20250606T232904Z
LAST-MODIFIED:20250606T232904Z
UID:19622-1750881600-1750888800@www.vogelwachtflevoland.nl
SUMMARY:Lezing : Walvissen door Frank Zanderink
DESCRIPTION:Als voormalig voorlichter en actievoerder van Greenpeace leerde ik\, Frank Zanderink\, tijdens mijn studie Tropische Bosbouw in Wageningen\, veel over walvissen en de jacht op deze grote zoogdieren. Een passie was geboren die mij later\, in 2002 na een verblijf in Schotland\, tussen de dwergvinvissen en tuimelaars bracht. Een paar jaar daarna zag Stichting Rugvin het levenslicht. In korte tijd verbreedden we onze activiteiten van monitoring op veerboten\, naar het beluisteren van de echolocatiegeluiden van bruinvissen\, de foto identificatie van bruinvissen en het begeleiden van groepen op zee in Zuid-Afrika. En we hebben nu zelfs Sedna de bruinvis in ons bestuur opgenomen. Kortom er is enorm veel te beleven onder het zeeoppervlak.\nAan de hand van eigen unieke (geluids-)beelden van bruinvissen\, dolfijnen en walvissen in hun natuurlijk omgeving neem ik jullie mee de Noordzee en Oosterschelde op en vertel ik welke walvisachtigen\, o.m. bultruggen\, butskoppen\, orka&rsquo;s en bruinvissen je hier kunt zien én waar! Zo bevindt de makkelijkste plek om walvisachtigen te zien en te horen zich in Zeeland! Ook zul u verbaasd staan over de rol die walvisachtigen wereldwijd allemaal spelen. Wist je bijvoorbeeld dat een blauwe vinvis iedere dag minsterns 5.000 kg poep/mest produceert en dat dit enorm belangrijk is voor de groei van het plantaardige plankton in zeeën en oceanen en daarmee voor iedere tweede ademteug van jezelf?\n\n© Frank Zanderink &ndash; Walvis
URL:https://www.vogelwachtflevoland.nl/event/lezing-walvissen-door-frank-zanderink-2/
LOCATION:Natuurbelevingscentrum de Oostvaarders\, Oostvaardersbosplaats 1\, Almere\, Flevoland\, 1336 RZ\, Nederland
CATEGORIES:Lezing
END:VEVENT
BEGIN:VEVENT
DTSTART;VALUE=DATE:20250628
DTEND;VALUE=DATE:20250629
DTSTAMP:20260421T052300
CREATED:20250606T233324Z
LAST-MODIFIED:20250606T233324Z
UID:19625-1751068800-1751155199@www.vogelwachtflevoland.nl
SUMMARY:twitchexcursie (hele dag)
DESCRIPTION:In tegenstelling tot een gewone excursie\, waar we een gebied uitzoeken om daar de vogels te bekijken\, gaan we dit keer twitchen onder leiding van René Alma! Dat betekent dat we gaan proberen om (een) zeldzame vogel(s) waar te nemen. We gaan dus daar naartoe waar dé (meest) zeldzame vogel zit (de excursieleider bepaalt waar we naar toe gaan).\nOp weg daar naar toe en op de terugweg proberen we als het even kan ook nog andere zeldzame of interessante soorten mee te nemen. Helaas kunnen we geen garantie geven dat we de vogel(s) waar we naar op zoek gaan ook echt zullen zien of horen\, maar we gaan ons uiterste best doen.\nDus wil je de kans wagen om één (of misschien meer) zeldzame soorten aan je levens- of jaarlijst toe te voegen? Ga dan mee met deze twitchexcursie!   \nJe kunt je aanmelden voor de excursies die in de agenda zijn genoemd via activiteiten@vogelwachtflevoland.nl met vermelding van de betreffende excursie\, de datum\, je naam en je mobiele nummer. Aan een excursie kunnen &ndash; tenzij anders vermeld &ndash; maximaal 15 personen deelnemen.\n\n© Rick van den Akker &ndash; Scharrelaar
URL:https://www.vogelwachtflevoland.nl/event/twitchexcursie-hele-dag/
CATEGORIES:Excursie
END:VEVENT
END:VCALENDAR