BEGIN:VCALENDAR
VERSION:2.0
PRODID:-//Vogel- en Natuurwacht Flevoland - ECPv6.15.20//NONSGML v1.0//EN
CALSCALE:GREGORIAN
METHOD:PUBLISH
X-ORIGINAL-URL:https://www.vogelwachtflevoland.nl
X-WR-CALDESC:Evenementen voor Vogel- en Natuurwacht Flevoland
REFRESH-INTERVAL;VALUE=DURATION:PT1H
X-Robots-Tag:noindex
X-PUBLISHED-TTL:PT1H
BEGIN:VTIMEZONE
TZID:Europe/Amsterdam
BEGIN:DAYLIGHT
TZOFFSETFROM:+0100
TZOFFSETTO:+0200
TZNAME:CEST
DTSTART:20240331T010000
END:DAYLIGHT
BEGIN:STANDARD
TZOFFSETFROM:+0200
TZOFFSETTO:+0100
TZNAME:CET
DTSTART:20241027T010000
END:STANDARD
BEGIN:DAYLIGHT
TZOFFSETFROM:+0100
TZOFFSETTO:+0200
TZNAME:CEST
DTSTART:20250330T010000
END:DAYLIGHT
BEGIN:STANDARD
TZOFFSETFROM:+0200
TZOFFSETTO:+0100
TZNAME:CET
DTSTART:20251026T010000
END:STANDARD
BEGIN:DAYLIGHT
TZOFFSETFROM:+0100
TZOFFSETTO:+0200
TZNAME:CEST
DTSTART:20260329T010000
END:DAYLIGHT
BEGIN:STANDARD
TZOFFSETFROM:+0200
TZOFFSETTO:+0100
TZNAME:CET
DTSTART:20261025T010000
END:STANDARD
END:VTIMEZONE
BEGIN:VEVENT
DTSTART;VALUE=DATE:20250510
DTEND;VALUE=DATE:20250511
DTSTAMP:20260421T101132
CREATED:20250405T083004Z
LAST-MODIFIED:20250405T083004Z
UID:19578-1746835200-1746921599@www.vogelwachtflevoland.nl
SUMMARY:Vogel- en Natuurwacht Flevoland 40 jaar
DESCRIPTION:Vogel- en Natuurwacht Flevoland viert haar 40 jarig jubileum tijdens de Wereldtrekvogeldag op 10 mei aanstaande in Natuurbelevingcentrum De Oostvaarders.\nLees hier het persbericht over onze activiteiten op 10 mei.\n10 mei is Wereldtrekvogeldag\, een dag die in het teken staat van de 3 miljard vogels die jaarlijks van noord naar zuid\, en in het najaar van zuid naar noord trekken. Tijdens die dag geeft de Vogel- en Natuurwacht Flevoland samen met de Stichting Stad en Natuur en Staatsbosbeheer invulling aan een informatief programma in en nabij het Natuurbelevingcentrum Oostvaarders in Almere. (Oostvaardersbosplaats 1\, 1306 RZ).\nU kunt als belangstellende lezingen bijwonen\, meegaan met excursies\, informatieve kramen bezoeken of gewoon rondlopen in het prachtige gebied en genieten van de natuur en de vogels. Op de Jan van de Bosch heuvel staan mensen van de Vogel- en Natuurwacht Flevoland met telescoop om u te laten kijken en te vertellen over de vogels die te zien zijn. Zelfs aan een heuse natuurfotowedstrijd is gedacht. Meedoen\, kijk dan op de website https://www.vogelwachtflevoland.nl/beeldbank/ voor de voorwaarden en de upload mogelijkheden. Een professionele jury zal zich buigen over de\, naar wij hopen\, vele inzendingen en aan de beste tien wordt een een prijs toegekend.\nBijzonder is de lezing van Theunis Piersma over de vogeltrek die in de middag zal plaatsvinden met de naam &ldquo;Wat trekvogels ons kunnen vertellen&rdquo;.\nTheunis Piersma is een absolute kenner. Hij is hoogleraar Trekvogelecologie aan de Rijksuniversiteit Groningen en doet onderzoek naar de vogeltrek in binnen- en buitenland. Hij is als geen ander in staat om over dit complexe vraagstuk heel toegankelijk voor iedere belangstellende te vertellen.\nKort geleden is hij nog benoemd tot ridder in de Nationale Orde van Mauritanië. Hij heeft deze onderscheiding gekregen voor zijn inzet voor de natuur in de Banc d&rsquo;Arguin in het West-Afrikaanse land.\nAan het einde van de middag viert de Vogel- en Natuurwacht Flevoland vanaf 16:30 uur haar 40-jarig jubileum. Deze feestelijke bijeenkomst is alleen toegankelijk voor donateurs en partners van de stichting. Die zijn dan ook allen van harte welkom.
URL:https://www.vogelwachtflevoland.nl/event/vogel-en-natuurwacht-flevoland-40-jaar/
END:VEVENT
BEGIN:VEVENT
DTSTART;VALUE=DATE:20250517
DTEND;VALUE=DATE:20250518
DTSTAMP:20260421T101132
CREATED:20250310T160320Z
LAST-MODIFIED:20250310T160320Z
UID:19520-1747440000-1747526399@www.vogelwachtflevoland.nl
SUMMARY:Zaterdag 17 mei: 12- en 24 uurs Big Day
DESCRIPTION:Ook in 2025 gaan we weer een Big Day (12 en 24 uur) houden en wel op zaterdag 17 mei 2025. Een Big Day houdt in\, dat je in 12 of 24 uur in Flevoland zoveel mogelijk vogelsoorten waarneemt. De Vogelwacht organiseert dit al vele jaren. Eerst alleen de 24-uurs versie\, maar daar kwamen de 6-uurs versie voor de cursisten (dit jaar op 10 mei) en iets later de 12-uurs versie bij. Daarnaast organiseren we sinds enkele jaren een Fiets Big Day\, dit jaar op 24 mei. Tijdens de auto Big Day in 2024 werden in totaal 168 soorten waargenomen (het winnende team vestigde met 154 soorten een record) en met de fiets 130. Mooie resultaten\, maar zijn ze te verbeteren? Vast wel!\nDit jaar wordt de Big Day dus gehouden op 17 mei voor zowel de 12-uurs versie als de 24-uurs versie. Je bepaalt zelf of je dat wandelend\, met de fiets of auto of gecombineerd doet. Tip: bij een Big Day kan een voorbereiding helpen. Want waar kan je dan welke soorten verwachten?\nEr zijn enkele regels om rekening mee te houden:\nDe vogel moet door meer dan de helft van het team worden waargenomen. Dus bij een team van 4 of 5 personen moeten 3 personen de vogel hebben waargenomen. Bij een team van 3 personen is dat door 2 personen.\nMet waarnemen bedoelen we dat de vogel is herkend. Dat kan zijn omdat je de vogel ziet\, maar ook op basis van het geluid. Als één teamlid de vogel heeft herkend en de andere teamleden zien alleen iets wegvliegen of zo\, dan telt de vogel niet mee.\nDe waarnemer moet in Flevoland staan. De vogel zelf hoeft zich niet in Flevoland te bevinden.\nExoten (zoals Nijlgans\, Fazant of Grote Canadese Gans) tellen niet mee. De Wilde Zwaan in het Natuurpark Lelystad telt overigens ook als een exoot.\nDe 12 uurs Big Day begint om 6 uur en eindigt om 18 uur.\nDe 24 uurs Big Day is de hele dag.\nAls een team eerder wil stoppen\, dan mag dat natuurlijk. Eerder beginnen mag echter niet. De belangrijkste regel: heb heel veel plezier!\nLijkt het je leuk om (weer) mee te doen\, meld je even aan via activiteiten@vogelwachtflevoland.nl . Of alleen of met jouw team. Geef wel even door of je voor de 12 of 24-uurs versie gaat. Mocht je geen team kunnen samenstellen\, maar wil je wel meedoen\, laat dat dan weten. Als er meer individuele aanmeldingen zijn\, dan kijken wij of jullie een team kunnen vormen. En natuurlijk mag je ook alleen de Big Day doen.
URL:https://www.vogelwachtflevoland.nl/event/zaterdag-17-mei-12-en-24-uurs-big-day/
CATEGORIES:Big Day
END:VEVENT
BEGIN:VEVENT
DTSTART;VALUE=DATE:20250524
DTEND;VALUE=DATE:20250525
DTSTAMP:20260421T101132
CREATED:20250310T160603Z
LAST-MODIFIED:20250310T160603Z
UID:19523-1748044800-1748131199@www.vogelwachtflevoland.nl
SUMMARY:Zaterdag 24 mei: Fiets Big Day
DESCRIPTION:De activiteitencommissie organiseert op 24 mei de fietsversie. Als het 24 mei echt te slecht weer is voor de fiets\, dan verplaatsten we de Fiets Big Day naar zondag 25 mei.\nOmdat de regels voor beide versies nagenoeg gelijk zijn (zoveel mogelijk vogelsoorten waarnemen)\, staan hier alleen de afwijkende regels voor de fiets Big Day.\nJe kunt deelnemen aan een 6-\, 12- of 24-uurs versie. De 6 en 12-uurs versie starten beide om 6.00 uur en eindigen om 12.00\, respectievelijk 18.00 uur. Voor iedere categorie hebben we voor de winnaars een mooie wisselbeker. Wie wil die nu niet een jaar in haar/zijn bezit hebben! En de ervaring leert dat een Big Day op de fiets heel anders (leuker!) is dan met de auto. Je ervaart de zoektocht naar de vogels anders omdat je onderweg naar de volgende locatie veel makkelijker vogels waarneemt.\nDe auto mag wel gebruikt worden om naar het startpunt van jouw Big Day te gaan\, maar daarna mag er alleen gefietst worden.\nEen gewone E-bike mag gebruikt worden.\nLijkt het je leuk om (weer) mee te doen en te gaan voor de wisselbeker\, meld je dan even aan. Of alleen of met jouw team. Geef wel even door voor welke versie jij of jouw team gaat (6\, 12 of 24 uurs).\nMocht je geen team kunnen samenstellen\, maar wil je wel meedoen\, laat dat dan weten. Als er meer individuele aanmeldingen zijn\, dan kijken wij of jullie een team kunnen vormen. En natuurlijk mag je ook alleen de Big Day doen.\nHeb je vragen of zijn er onduidelijkheden\, laat het ons dan weten via activiteiten@vogelwachtflevoland.nl.\nWil je meedoen\, meld je dan aan bij activiteiten@vogelwachtflevoland.nl. Wij mailen je dan vooraf een telformulier waarmee je jouw/jullie resultaten aan ons doorgeeft. Voor een makkelijke verwerking graag alleen dit formulier gebruiken.
URL:https://www.vogelwachtflevoland.nl/event/zaterdag-24-mei-fiets-big-day/
CATEGORIES:Big Day
END:VEVENT
END:VCALENDAR