BEGIN:VCALENDAR
VERSION:2.0
PRODID:-//Vogel- en Natuurwacht Flevoland - ECPv6.15.20//NONSGML v1.0//EN
CALSCALE:GREGORIAN
METHOD:PUBLISH
X-ORIGINAL-URL:https://www.vogelwachtflevoland.nl
X-WR-CALDESC:Evenementen voor Vogel- en Natuurwacht Flevoland
REFRESH-INTERVAL;VALUE=DURATION:PT1H
X-Robots-Tag:noindex
X-PUBLISHED-TTL:PT1H
BEGIN:VTIMEZONE
TZID:Europe/Amsterdam
BEGIN:DAYLIGHT
TZOFFSETFROM:+0100
TZOFFSETTO:+0200
TZNAME:CEST
DTSTART:20240331T010000
END:DAYLIGHT
BEGIN:STANDARD
TZOFFSETFROM:+0200
TZOFFSETTO:+0100
TZNAME:CET
DTSTART:20241027T010000
END:STANDARD
BEGIN:DAYLIGHT
TZOFFSETFROM:+0100
TZOFFSETTO:+0200
TZNAME:CEST
DTSTART:20250330T010000
END:DAYLIGHT
BEGIN:STANDARD
TZOFFSETFROM:+0200
TZOFFSETTO:+0100
TZNAME:CET
DTSTART:20251026T010000
END:STANDARD
BEGIN:DAYLIGHT
TZOFFSETFROM:+0100
TZOFFSETTO:+0200
TZNAME:CEST
DTSTART:20260329T010000
END:DAYLIGHT
BEGIN:STANDARD
TZOFFSETFROM:+0200
TZOFFSETTO:+0100
TZNAME:CET
DTSTART:20261025T010000
END:STANDARD
END:VTIMEZONE
BEGIN:VEVENT
DTSTART;TZID=Europe/Amsterdam:20250122T200000
DTEND;TZID=Europe/Amsterdam:20250122T220000
DTSTAMP:20260421T033504
CREATED:20241220T164209Z
LAST-MODIFIED:20241220T164209Z
UID:19198-1737576000-1737583200@www.vogelwachtflevoland.nl
SUMMARY:Lezing : De wondere wereld van wantsen door Luc Hoogenstein
DESCRIPTION:Wantsen kunnen meer en meer rekenen op een groeiende interesse\, en dat is volkomen terecht. Het zijn prachtige dieren met een bijzondere levenswijze en\, en dat is ook mooi meegenomen\, ze zijn overal te vinden\, het hele jaar door. De wantsenwereld is ook een dynamische wereld: in Nederland komen ruim 640 soorten voor\, waar elk jaar weer nieuwe soorten bijkomen. Luc Hoogenstein\, bij ons bekend van zijn 1000 soortentuin-presentatie\, zal ons meenemen in de wondere wereld van de wantsen. Hij zal niet alleen ingaan op bekende soorten dicht bij huis\, maar zal ook minder bekende\, verrassende soorten de revue laten passeren en hoe het hem lukte om een nieuwe wantsensoort voor Nederland te ontdekken.  \nLuc Hoogenstein is bioloog\, spreker\, prijswinnend natuurfotograaf en schrijver van het boek &lsquo;Mijn 1000 soortentuin&lsquo;. Hij heeft onder andere gewerkt bij Vogelbescherming en Natuurmonumenten en is momenteel werkzaam in de duurzame energiesector en als presentator bij RTV Utrecht van het programma Luc&rsquo;s Tuinsafari. \n\nFoto Luc Hoogenstein &ndash; Pyamaschildwants
URL:https://www.vogelwachtflevoland.nl/event/lezing-de-wondere-wereld-van-wantsen-door-luc-hoogenstein/
LOCATION:Natuurbelevingscentrum de Oostvaarders\, Oostvaardersbosplaats 1\, Almere\, Flevoland\, 1336 RZ\, Nederland
CATEGORIES:Lezing
END:VEVENT
BEGIN:VEVENT
DTSTART;TZID=Europe/Amsterdam:20250125T070000
DTEND;TZID=Europe/Amsterdam:20250125T190000
DTSTAMP:20260421T033504
CREATED:20241220T163644Z
LAST-MODIFIED:20241220T163717Z
UID:19194-1737788400-1737831600@www.vogelwachtflevoland.nl
SUMMARY:Dagexcursie Zeeland o.l.v. René Alma
DESCRIPTION:Dit keer gaan we naar diverse gebieden die op de grens liggen van Zuid-Holland en Zeeland. Deze streek heeft een enorme aantrekkingskracht op vogels. De diversiteit is enorm: kuifduikers en geoorde futen komen er in onNederlandse aantallen voor. Daarnaast verwinteren er allerlei duikersoorten\, zoals roodkeelduikers en meestal ook wel ijsduikers. De Grevelingen wordt aan de Noordzeekant afgesloten door de Brouwersdam. Deze dam zullen we ook met een bezoek vereren want het is een goede locatie om ijseenden\, middelste zaagbekken\, zwarte zee-eenden en paarse strandlopers te zien. Daarnaast duiken er regelmatig zeldzame soorten op zoals de ijsduiker en zwarte zeekoet. De hele streek is een foerageer- en rustplaats voor honderdduizenden internationale trekvogels en een paradijs voor overwinterende en broedende water-\, moeras- en roofvogels. \nHet zal een excursie worden die eigenlijk niet kan teleurstellen\, omdat het zulke gevarieerde gebieden zijn met zee\, polder\, kreken\, brakke moerassen en zilte graslanden. Eerdere excursies stelden ook nooit teleur. Afhankelijk van de tijd en eventueel aanwezige zeldzaamheden in de buurt zullen we dieper Zeeland ingaan. We vertrekken om 7.00 uur uit Almere en zijn daar terug rond 19.00 uur. Gelet op de afstand zullen de benzinekosten ca. &euro;12\,50 euro per persoon bedragen. \nAanmelden kan door een email te sturen activiteiten@vogelwachtflevoland.nl onder vermelding van je mobiele nummer.\nEr is nog maar 1 plaats beschikbaar!\n Overige aanmeldingen komen op de wachtlijst terecht.\n\nFoto Huib Leenders &ndash; IJseend
URL:https://www.vogelwachtflevoland.nl/event/dagexcursie-zeeland-o-l-v-rene-alma/
CATEGORIES:Excursie
END:VEVENT
BEGIN:VEVENT
DTSTART;TZID=Europe/Amsterdam:20250129T200000
DTEND;TZID=Europe/Amsterdam:20250129T220000
DTSTAMP:20260421T033504
CREATED:20241220T165200Z
LAST-MODIFIED:20241226T231042Z
UID:19200-1738180800-1738188000@www.vogelwachtflevoland.nl
SUMMARY:Van het Bestuur
DESCRIPTION:Uitnodiging nieuwjaarsbijeenkomst 2025 \nBij deze nodigen wij alle donateurs\, vrijwilligers\, partners en samenwerkende partijen van harte uit om samen met het bestuur het glas te heffen op het nieuwe jaar 2025. Tijdens deze gelegenheid staan we ook stil bij het afscheid van Huub Langkemper\, onze afzwaaiende penningmeester. Willen jullie hem de hand schudden\, maar ook elkaar\, kom dan langs. \n\nFoto Jan-Willem van der Kuij &ndash; Bergeenden op het ijs
URL:https://www.vogelwachtflevoland.nl/event/van-het-bestuur/
CATEGORIES:Nieuwjaarsbijeenkomst
END:VEVENT
END:VCALENDAR