BEGIN:VCALENDAR
VERSION:2.0
PRODID:-//Vogel- en Natuurwacht Flevoland - ECPv6.15.20//NONSGML v1.0//EN
CALSCALE:GREGORIAN
METHOD:PUBLISH
X-ORIGINAL-URL:https://www.vogelwachtflevoland.nl
X-WR-CALDESC:Evenementen voor Vogel- en Natuurwacht Flevoland
REFRESH-INTERVAL;VALUE=DURATION:PT1H
X-Robots-Tag:noindex
X-PUBLISHED-TTL:PT1H
BEGIN:VTIMEZONE
TZID:Europe/Amsterdam
BEGIN:DAYLIGHT
TZOFFSETFROM:+0100
TZOFFSETTO:+0200
TZNAME:CEST
DTSTART:20230326T010000
END:DAYLIGHT
BEGIN:STANDARD
TZOFFSETFROM:+0200
TZOFFSETTO:+0100
TZNAME:CET
DTSTART:20231029T010000
END:STANDARD
BEGIN:DAYLIGHT
TZOFFSETFROM:+0100
TZOFFSETTO:+0200
TZNAME:CEST
DTSTART:20240331T010000
END:DAYLIGHT
BEGIN:STANDARD
TZOFFSETFROM:+0200
TZOFFSETTO:+0100
TZNAME:CET
DTSTART:20241027T010000
END:STANDARD
BEGIN:DAYLIGHT
TZOFFSETFROM:+0100
TZOFFSETTO:+0200
TZNAME:CEST
DTSTART:20250330T010000
END:DAYLIGHT
BEGIN:STANDARD
TZOFFSETFROM:+0200
TZOFFSETTO:+0100
TZNAME:CET
DTSTART:20251026T010000
END:STANDARD
END:VTIMEZONE
BEGIN:VEVENT
DTSTART;TZID=Europe/Amsterdam:20240921T070000
DTEND;TZID=Europe/Amsterdam:20240921T130000
DTSTAMP:20260420T061453
CREATED:20240913T224820Z
LAST-MODIFIED:20240913T224820Z
UID:19000-1726902000-1726923600@www.vogelwachtflevoland.nl
SUMMARY:Ochtendexcursie Paddenstoelen
DESCRIPTION:In de nazomer en vroege herfst\, als de dagen korten en planten zich al voorbereiden op de winter\, gaan schimmels hard aan de slag. Ze maken uit organische resten de voedingsstoffen vrij voor hergebruik door nieuwe planten. Gelukkig voor ons planten schimmels zich voort (andersom is minder gewenst\, planten die voort schimmelen) met een grote verscheidenheid aan vormen en kleuren van vruchtlichamen\, de paddenstoelen. Voor mycologen zijn Amethisten\, Boleten en Cortinaria&rsquo;s misschien A-B-C-tjes\, wij komen in excursies vaak met verwondering wel uit A en B\, maar vanaf C is al moeilijker ;-). Dat maakt het genieten niet minder. Bij zwammen houdt het gesprek gewoon vaker al op voor een naam geplakt kan worden. \nZoals altijd bij het streven naar waarnemen van veel verschillende soorten loont het om diverse terreintypen en bij zwammen ook grondsoorten te bezoeken. We gaan daarom de combinatie van het zandige Laakse strand en het Hulkensteinse bos op zeeklei. Vijftig soorten toch minstens in het vooruitzicht denken we.\nBegeleiding door André van den Berg en Huib Leenders. \nHeb je zin in een leuke ochtend paddenstoelen kijken? Meld je dan aan via activiteiten@vogelwachtflevoland.nl onder vermelding van je mobiele nummer.\nEr kunnen maximaal 15 mensen mee. \n\nFoto André van den Berg &ndash; Grote bloedsteelmycena&rsquo;s
URL:https://www.vogelwachtflevoland.nl/event/ochtendexcursie-paddenstoelen-2/
CATEGORIES:Excursie
END:VEVENT
BEGIN:VEVENT
DTSTART;TZID=Europe/Amsterdam:20240925T200000
DTEND;TZID=Europe/Amsterdam:20240925T220000
DTSTAMP:20260420T061453
CREATED:20240913T225346Z
LAST-MODIFIED:20240913T225346Z
UID:19003-1727294400-1727301600@www.vogelwachtflevoland.nl
SUMMARY:Lezing Klapekster door Paul van der Poel
DESCRIPTION:Deze lezing gaat over slechts één soort\, al zullen zo nu en dan andere vogelsoorten en diverse vertegenwoordigers van andere diergroepen de revue passeren. De klapekster zal met alle kenmerken ten tonele gevoerd worden\, zowel wat betreft uiterlijk als haar uitzonderlijke leefwijze. Ook het voorkomen van de klapekster qua geografische verspreiding en qua habitat wordt behandeld. Daarna volgt iets over de klapekster als overwinteraar in het Gooi\, in het bijzonder de Tafelbergheide. Wanneer de tijd het toelaat vertelt Paul over de ervaringen die hij had in Polen bij het nest van een paartje klapeksters. \n\nFoto Paul van der Poel &ndash; Klapekster
URL:https://www.vogelwachtflevoland.nl/event/lezing-klapekster-door-paul-van-der-poel/
LOCATION:Stad & Natuur\, Kemphaanstraat 1\, Almere\, 1358 AD\, Nederland
CATEGORIES:Lezing
END:VEVENT
BEGIN:VEVENT
DTSTART;TZID=Europe/Amsterdam:20240929T120000
DTEND;TZID=Europe/Amsterdam:20240929T160000
DTSTAMP:20260420T061454
CREATED:20240928T090101Z
LAST-MODIFIED:20240928T090101Z
UID:19029-1727611200-1727625600@www.vogelwachtflevoland.nl
SUMMARY:Activiteiten bij Stad & Natuur
DESCRIPTION:De zomer is voorbij. De dagen worden korter\, bomen beginnen te verkleuren\, de geur van de herfst hangt in de lucht. Stad & Natuur Almere viert de start van het najaar met een gezellig Herfstfeest in het Vroege Vogelbos op zondag 29 september\, samen met IVN Almere en de Almeerse Wolunie. Van 12 tot 16 uur zijn er in het Vroege Vogelbos tal van leuke activiteiten voor jong en oud.     \nSchapen en bijen\nHet Vroege Vogelbos is de thuishaven van de schaapskudde van Stad & Natuur. Ontdek alles over deze dieren tijdens de Schapenpraatjes van de beheerder. Ook de imkers van Stad & Natuur zijn van de partij. Leer meer over (honing)bijen en maak een eigen bijenwaskaarsje. \nCreatief aan de slag \nEr zijn deze middag nog veel meer creatieve workshops. Ga creatief aan de slag met wol\, karton en knijpers en maak je eigen herfstige diertje. Knutsel een mooie herfstcreatie met natuurlijke materialen. En leer zelf prachtige creaties van wol te maken. Kinderen kunnen zich laten schminken in hun favoriete herfstfiguur. En samen met hun ouders genieten van de interactieve kindervoorstelling over twee vriendinnen die samen de natuur ontdekken. \nAppelsap en walnoten\nOok aan de innerlijke mens is gedacht. Geniet van heerlijke poffertjes van Stichting BOT en proef versgeperst appelsap. Leer walnoten kraken\, maak je eigen kruidenboter en bak zelf de lekkerste pannenkoekjes. Zin gekregen in koffie\, verse appeltaart of ander lekkers? Neem dan plaats bij het Eksternest.  \nPraktisch\nToegang is gratis\, voor sommige workshops wordt een bijdrage gevraagd in de vorm van een strippenkaart. Vanwege een beperkt aantal parkeerplaatsen vraagt Stad & Natuur iedereen zoveel mogelijk lopend of met de fiets te komen. Het Vroege Vogelbos is ook makkelijk te bereiken via bushalte &lsquo;t Oor. Kijk voor meer informatie op www.stadennatuur.nl \n \nFoto Jorn van Eck &ndash; Het Eksternest
URL:https://www.vogelwachtflevoland.nl/event/activiteiten-bij-stad-natuur/
LOCATION:Schaapskooi\, Muiderweg 10\, Almere
END:VEVENT
END:VCALENDAR