BEGIN:VCALENDAR
VERSION:2.0
PRODID:-//Vogel- en Natuurwacht Flevoland - ECPv6.15.20//NONSGML v1.0//EN
CALSCALE:GREGORIAN
METHOD:PUBLISH
X-ORIGINAL-URL:https://www.vogelwachtflevoland.nl
X-WR-CALDESC:Evenementen voor Vogel- en Natuurwacht Flevoland
REFRESH-INTERVAL;VALUE=DURATION:PT1H
X-Robots-Tag:noindex
X-PUBLISHED-TTL:PT1H
BEGIN:VTIMEZONE
TZID:Europe/Amsterdam
BEGIN:DAYLIGHT
TZOFFSETFROM:+0100
TZOFFSETTO:+0200
TZNAME:CEST
DTSTART:20230326T010000
END:DAYLIGHT
BEGIN:STANDARD
TZOFFSETFROM:+0200
TZOFFSETTO:+0100
TZNAME:CET
DTSTART:20231029T010000
END:STANDARD
BEGIN:DAYLIGHT
TZOFFSETFROM:+0100
TZOFFSETTO:+0200
TZNAME:CEST
DTSTART:20240331T010000
END:DAYLIGHT
BEGIN:STANDARD
TZOFFSETFROM:+0200
TZOFFSETTO:+0100
TZNAME:CET
DTSTART:20241027T010000
END:STANDARD
BEGIN:DAYLIGHT
TZOFFSETFROM:+0100
TZOFFSETTO:+0200
TZNAME:CEST
DTSTART:20250330T010000
END:DAYLIGHT
BEGIN:STANDARD
TZOFFSETFROM:+0200
TZOFFSETTO:+0100
TZNAME:CET
DTSTART:20251026T010000
END:STANDARD
END:VTIMEZONE
BEGIN:VEVENT
DTSTART;VALUE=DATE:20240511
DTEND;VALUE=DATE:20240512
DTSTAMP:20260423T011407
CREATED:20240113T155600Z
LAST-MODIFIED:20240113T155600Z
UID:18725-1715385600-1715471999@www.vogelwachtflevoland.nl
SUMMARY:BIG DAY (12- of 24-uurs)
DESCRIPTION:Ook in 2024 gaan we weer een Big Day (12 en 24 uur) houden en wel op zaterdag 11 mei 2024. Voor degenen die niet weten wat een Big Day is\, dat is dat je in 12 of 24 uur in Flevoland zoveel mogelijk vogelsoorten waarneemt. De Vogelwacht organiseert dit al vele jaren. Eerst alleen de 24-uurs versie\, maar op enig moment kwam daar de 6-uurs versie voor de cursisten (dit jaar ook op 4 mei) bij en nog iets later de 12-uurs versie. Daarnaast organiseren we sinds enkele jaren een Fiets Big Day\, dit jaar op 18 mei. Tijdens de auto Big Day in 2023 werden in totaal 161 soorten waargenomen en met de fiets 120. Mooie resultaten\, maar zijn ze te verbeteren? Vast wel! \nDit jaar wordt de Big Day dus gehouden op 11 mei voor zowel de 12-uurs versie als de 24-uurs versie). Je bepaalt zelf of je dat wandelend\, met de fiets of auto of gecombineerd doet. Tip: bij een Big Day kan een voorbereiding helpen. Want waar kan je dan welke soorten verwachten? \nEr zijn enkele regels om rekening mee te houden: \nDe vogel moet door meer dan de helft van het team worden waargenomen. Dus bij een team van 4 of 5 personen moeten 3 personen de vogel hebben waargenomen. Bij een team van 3 personen is dat door 2 personen.\nMet waarnemen bedoelen we dat de vogel is herkend. Dat kan zijn omdat je de vogel ziet\, maar kan ook zijn op basis van het geluid. Als één teamlid de vogel heeft herkend en de ander teamleden zien alleen iets wegvliegen of zo\, dan telt de vogel niet mee.\nDe waarnemer moet in Flevoland staan. De vogel zelf hoeft zich niet in Flevoland te bevinden.\nExoten (zoals Nijlgans\, Fazant of Grote Canadese Gans) tellen niet mee. De Wilde Zwaan in het Natuurpark Lelystad telt overigens ook als een exoot.\nDe 12 uurs Big Day begint om 6 uur en eindigt om 18 uur.\nDe 24 uurs Big Day is de hele dag.\nAls een team eerder wil stoppen\, dan mag dat natuurlijk. Eerder beginnen mag echter niet. De belangrijkste regel: heb heel veel plezier! \nLijkt het je leuk om (weer) mee te doen\, meld je even aan. Of alleen of met jouw team. Geef wel even door of je voor de 12 of 24-uurs versie gaat. Mocht je geen team kunnen samenstellen\, maar wil je wel meedoen\, laat dat dan weten. Als er meer individuele aanmeldingen zijn\, dan kijken wij of jullie een team kunnen vormen. En natuurlijk mag je ook alleen de Big Day doen. \n \nHeb je vragen of zijn er onduidelijkheden\, laat het ons dan weten. Wil je meedoen\, meld je dan aan bij activiteiten@vogelwachtflevoland.nl. Wij mailen je dan vooraf een telformulier waarmee je jouw/jullie resultaten aan ons doorgeeft. Voor een makkelijke verwerking graag alleen dit formulier gebruiken.
URL:https://www.vogelwachtflevoland.nl/event/big-day-12-of-24-uurs/
CATEGORIES:Big Day
END:VEVENT
BEGIN:VEVENT
DTSTART;VALUE=DATE:20240518
DTEND;VALUE=DATE:20240519
DTSTAMP:20260423T011407
CREATED:20240113T160104Z
LAST-MODIFIED:20240113T160104Z
UID:18727-1715990400-1716076799@www.vogelwachtflevoland.nl
SUMMARY:FIETS BIG DAY (6-\, 12- of 24-uurs)
DESCRIPTION:Ook in 2024 organiseert de activiteitencommissie weer twee versies van de Big Day. Op 11 mei de gebruikelijke Big Day en op 18 mei de fietsversie. \nOmdat de regels zijn voor beide versies nagenoeg gelijk (zoveel mogelijk vogelsoorten waarnemen) zijn\, staan hier alleen de afwijkende regels voor de fiets Big Day. \n \nJe kunt deelnemen aan een 6-\, 12- of 24-uurs versie. De 6 en 12-uurs versie starten beiden om 6.00 uur en eindigen om 12.00 respectievelijk 18.00 uur. Voor iedere categorie hebben we voor de winnaars een mooie wisselbeker. Wie wil die nu niet een jaar in haar/zijn bezit hebben! En de ervaring leert dat een Big Day op de fiets heel anders (leuker!) is dan met de auto. Je ervaart de zoektocht naar de vogels anders omdat je onderweg naar de volgende locatie veel makkelijker vogels waarneemt. \nDe auto mag wel gebruikt worden om naar het startpunt van jouw Big Day te gaan\, maar daarna mag er alleen gefietst worden.\nEen gewone E-bike mag gebruikt worden.\nAls het 18 mei echt te slecht weer is voor de fiets\, dan verplaatsten we de Fiets Big Day naar zondag 19 mei. \nLijkt het je leuk om (weer) mee te doen en te gaan voor de wisselbeker\, meld je dan even aan. Of alleen of met jouw team. Geef wel even door voor welke versie jij of jouw team gaat (6\, 12 of 24 uurs). \nMocht je geen team kunnen samenstellen\, maar wil je wel meedoen\, laat dat dan weten. Als er meer individuele aanmeldingen zijn\, dan kijken wij of jullie een team kunnen vormen. En natuurlijk mag je ook alleen de Big Day doen. \nHeb je vragen of zijn er onduidelijkheden\, laat het ons dan weten via activiteiten@vogelwachtflevoland.nl. \nWil je meedoen\, meld je dan aan bij activiteiten@vogelwachtflevoland.nl. Wij mailen je dan vooraf een telformulier waarmee je jouw/jullie resultaten aan ons doorgeeft. Voor een makkelijke verwerking graag alleen dit formulier gebruiken.
URL:https://www.vogelwachtflevoland.nl/event/fiets-big-day-6-12-of-24-uurs/
CATEGORIES:Big Day
END:VEVENT
BEGIN:VEVENT
DTSTART;VALUE=DATE:20240518
DTEND;VALUE=DATE:20240519
DTSTAMP:20260423T011407
CREATED:20240507T200418Z
LAST-MODIFIED:20240507T200418Z
UID:18818-1715990400-1716076799@www.vogelwachtflevoland.nl
SUMMARY:Fiets Big Day
DESCRIPTION:Zaterdag 18 mei 2024: FIETS BIG DAY\nOok in 2024 organiseert de activiteitencommissie weer twee versies van de Big Day. Op 11 mei de gebruikelijke Big Day (zie ook elders in deze Nieuwsflits) en op 18 mei de fietsversie.\nOmdat de regels zijn voor beide versies nagenoeg gelijk (zoveel mogelijk vogelsoorten waarnemen) zijn\, staan hier alleen de afwijkende regels voor de fiets Big Day. \nJe kunt deelnemen aan een 6-\, 12- of 24-uurs versie. De 6 en 12-uurs versie starten beiden om 6.00 uur en eindigen om 12.00 respectievelijk 18.00 uur. Voor iedere categorie hebben we voor de winnaars een mooie wisselbeker. Wie wil die nu niet een jaar in haar/zijn bezit hebben! En de ervaring leert dat een Big Day op de fiets heel anders (leuker!) is dan met de auto. Je ervaart de zoektocht naar de vogels anders omdat je onderweg naar de volgende locatie veel makkelijker vogels waarneemt. \nDe auto mag wel gebruikt worden om naar het startpunt van jouw Big Day te gaan\, maar daarna mag er alleen gefietst worden.\nEen gewone E-bike mag gebruikt worden.\nAls het 18 mei echt te slecht weer is voor de fiets\, dan verplaatsten we de Fiets Big Day naar zondag 19 mei. \nLijkt het je leuk om (weer) mee te doen en te gaan voor de wisselbeker\, meld je dan even aan. Of alleen of met jouw team. Geef wel even door voor welke versie jij of jouw team gaat (6\, 12 of 24 uurs).\nMocht je geen team kunnen samenstellen\, maar wil je wel meedoen\, laat dat dan weten. Als er meer individuele aanmeldingen zijn\, dan kijken wij of jullie een team kunnen vormen. En natuurlijk mag je ook alleen de Big Day doen. \nHeb je vragen of zijn er onduidelijkheden\, laat het ons dan weten via activiteiten@vogelwachtflevoland.nl.Wil je meedoen\, meld je dan aan bij activiteiten@vogelwachtflevoland.nl. Wij mailen je dan vooraf een telformulier waarmee je jouw/jullie resultaten aan ons doorgeeft. Voor een makkelijke verwerking graag alleen dit formulier gebruiken.
URL:https://www.vogelwachtflevoland.nl/event/fiets-big-day-2/
CATEGORIES:Big Day
END:VEVENT
BEGIN:VEVENT
DTSTART;TZID=Europe/Amsterdam:20240522T200000
DTEND;TZID=Europe/Amsterdam:20240522T220000
DTSTAMP:20260423T011407
CREATED:20240507T201518Z
LAST-MODIFIED:20240507T201518Z
UID:18820-1716408000-1716415200@www.vogelwachtflevoland.nl
SUMMARY:Lezing : De rode reiger door Henk van der Kooij
DESCRIPTION:Iedereen kent natuurlijk de Blauwe Reiger en tegenwoordig ook de Grote Zilverreiger. Maar hoe staat dat met de Purperreiger? Deze Afrikatrekker is veel minder bekend. \nHenk van der Kooij heeft in Wageningen gestudeerd. Zijn doctoraal-onderwerp was: De Rode Reiger in het Groene Hart van Holland (1975).\nHij weet zich bevoorrecht dat hij deze reiger al decennia landelijk mag en kan volgen.  \nAan de hand van een Powerpoint presentatie staat Henk stil bij de belangrijkste Nederlandse broedgebieden van de Purperreiger.\nHoe worden de kolonies geteld? Hoe doet de landelijke populatie het de laatste decennia? Welke gevaren bedreigen de purperreiger?\nWaar ze overwinteren ze in Afrika? Kortom een jaarrond-presentatie over deze boeiende reigersoort met zijn tropische kleuren.\nKom en geniet ook van dit fraaie schepsel! \n\nFoto: Henk van der Kooij &ndash; vier grote\, bijna vliegvlugge jonge Purperreigers\, nest in Meidoorn
URL:https://www.vogelwachtflevoland.nl/event/lezing-de-rode-reiger-door-henk-van-der-kooij/
LOCATION:Stad & Natuur\, Kemphaanstraat 1\, Almere\, 1358 AD\, Nederland
CATEGORIES:Lezing
END:VEVENT
BEGIN:VEVENT
DTSTART;TZID=Europe/Amsterdam:20240525T210000
DTEND;TZID=Europe/Amsterdam:20240526T020000
DTSTAMP:20260423T011407
CREATED:20240507T202404Z
LAST-MODIFIED:20240507T202404Z
UID:18823-1716670800-1716688800@www.vogelwachtflevoland.nl
SUMMARY:Avond- en nachtexcursie Flevoland
DESCRIPTION:Op zaterdag 25 mei is er een avond- en nacht excursie in Flevoland onder leiding van Greet Boomhouwer.\nWe vertrekken rond 21.00 uur uit Almere en rijden eerst naar het Roggebotzand om Houtsnippen en Uilen te zoeken. Daar maken we een kleine wandeling op makkelijke paden. Daarna gaan we met de auto richting Almere en stoppen langs allemaal plekken om de nachtactieve soorten op te sporen. \n&rsquo;s Nachts is sowieso een heel andere beleving dan overdag. De geluiden en zang zijn dan veel intenser.\nWe hopen op Bosuil\, Grote Karekiet\, Kerkuil\, Ransuil\, Bosrietzanger\, Snor\, Sprinkhaanzanger\, Waterral\, Roerdomp\, Blauwborst\, en wellicht komen we ook Kwartel\, Kwartelkoning\, Woudaap en Porseleinhoen tegen. Dat wordt nog een verrassing\, want het is maar net wat we voor de 25ste ontdekt hebben in de polder.\nHet zal je nog verbazen hoeveel vogelsoorten zingen of roepen in de nacht\, dus we kunnen van alles tegen komen. Een goede oefening om geluiden te leren kennen. \nBijzonder is dat we tijdens deze excursie voor het eerst gebruik gaan maken van de warmtebeeldkijker\, die onlangs is aangeschaft. Dat belooft erg interessant te worden en we hopen daarmee ook wat nachtvogels te kunnen zien! \nHou er rekening mee dat het wel 1 of 2 uur &rsquo;s nachts kan worden voor je weer terug bent in Almere\, afhankelijk van hoeveel we zien en horen.\nEr is een maximale deelname van 15 deelnemers en we rijden met maximaal 4 auto&rsquo;s (met meer is echt te gevaarlijk in het donker).\nMeld je aan voor deze unieke excursie door een mail te sturen naar activiteiten@vogelwachtflevoland.nl onder vermelding van je mobiele nummer. \n\nFoto Nelleke Seegers &ndash; Bosuil
URL:https://www.vogelwachtflevoland.nl/event/avond-en-nachtexcursie-flevoland/
CATEGORIES:Excursie
END:VEVENT
END:VCALENDAR