BEGIN:VCALENDAR
VERSION:2.0
PRODID:-//Vogel- en Natuurwacht Flevoland - ECPv6.15.20//NONSGML v1.0//EN
CALSCALE:GREGORIAN
METHOD:PUBLISH
X-ORIGINAL-URL:https://www.vogelwachtflevoland.nl
X-WR-CALDESC:Evenementen voor Vogel- en Natuurwacht Flevoland
REFRESH-INTERVAL;VALUE=DURATION:PT1H
X-Robots-Tag:noindex
X-PUBLISHED-TTL:PT1H
BEGIN:VTIMEZONE
TZID:Europe/Amsterdam
BEGIN:DAYLIGHT
TZOFFSETFROM:+0100
TZOFFSETTO:+0200
TZNAME:CEST
DTSTART:20230326T010000
END:DAYLIGHT
BEGIN:STANDARD
TZOFFSETFROM:+0200
TZOFFSETTO:+0100
TZNAME:CET
DTSTART:20231029T010000
END:STANDARD
BEGIN:DAYLIGHT
TZOFFSETFROM:+0100
TZOFFSETTO:+0200
TZNAME:CEST
DTSTART:20240331T010000
END:DAYLIGHT
BEGIN:STANDARD
TZOFFSETFROM:+0200
TZOFFSETTO:+0100
TZNAME:CET
DTSTART:20241027T010000
END:STANDARD
BEGIN:DAYLIGHT
TZOFFSETFROM:+0100
TZOFFSETTO:+0200
TZNAME:CEST
DTSTART:20250330T010000
END:DAYLIGHT
BEGIN:STANDARD
TZOFFSETFROM:+0200
TZOFFSETTO:+0100
TZNAME:CET
DTSTART:20251026T010000
END:STANDARD
END:VTIMEZONE
BEGIN:VEVENT
DTSTART;TZID=Europe/Amsterdam:20240323T090000
DTEND;TZID=Europe/Amsterdam:20240323T120000
DTSTAMP:20260425T152308
CREATED:20240307T102035Z
LAST-MODIFIED:20240307T102035Z
UID:18754-1711184400-1711195200@www.vogelwachtflevoland.nl
SUMMARY:Zwerfafval opruimen tijdens de Landelijke Opschoondag
DESCRIPTION:23 maart is het Landelijke Opschoondag. Dit jaar gaan we daar met de Vogelwacht aan mee doen. We gaan met zoveel mogelijk donateurs (anderen zijn natuurlijk ook welkom!) in een gebied in Almere zwerfafval opruimen. Nuttig en gezellig!  Deze activiteit duurt van 9.00 &ndash; 12.00 uur\, maar ook als je maar een uurtje wilt of kunt komen helpen\, ben je van harte welkom. De gemeente stelt materialen (onder andere grijpers) ter beschikking\, die je na afloop mag houden. Achteraf wordt het door ons verzamelde zwerfafval door de gemeente opgehaald.\nIn verband met de aanvraag van materialen is aanmelden nodig via activiteiten@vogelwachtflevoland.nl onder vermelding van je mobiele nummer. Er zijn al een aantal aanmeldingen\, maar hoe meer hoe beter! Samen maken we een stukje Almere schoon. Jij doet toch ook mee? \nFoto Gemeente Waalwijk &ndash; Doe je ook mee?
URL:https://www.vogelwachtflevoland.nl/event/zwerfafval-opruimen-tijdens-de-landelijke-opschoondag/
END:VEVENT
BEGIN:VEVENT
DTSTART;TZID=Europe/Amsterdam:20240327T200000
DTEND;TZID=Europe/Amsterdam:20240327T220000
DTSTAMP:20260425T152308
CREATED:20240307T103337Z
LAST-MODIFIED:20240307T103337Z
UID:18757-1711569600-1711576800@www.vogelwachtflevoland.nl
SUMMARY:Lezing Bevers door Jeroen Reinhold
DESCRIPTION:Sinds 1990 zwemmen er bevers in de vrije natuur van Flevoland nadat ze ontsnapt zijn uit het Natuurpark Lelystad. Ondertussen zijn we bijna 35 jaar verder. Hoe gaat het nu met de bever in Flevoland? Elders in het land komt de bever nu vaak slecht in het nieuws\, maar over problemen met bevers hoor je in Flevoland zelden. Is daar een reden voor?\nJeroen Reinhold van Landschapsbeheer Flevoland gaat ons daar vanavond alles over vertellen. \nFoto Jeroen Reinhold &ndash; Bever
URL:https://www.vogelwachtflevoland.nl/event/lezing-bevers-door-jeroen-reinhold/
LOCATION:Stad & Natuur\, Kemphaanstraat 1\, Almere\, 1358 AD\, Nederland
END:VEVENT
END:VCALENDAR