BEGIN:VCALENDAR
VERSION:2.0
PRODID:-//Vogel- en Natuurwacht Flevoland - ECPv6.15.20//NONSGML v1.0//EN
CALSCALE:GREGORIAN
METHOD:PUBLISH
X-ORIGINAL-URL:https://www.vogelwachtflevoland.nl
X-WR-CALDESC:Evenementen voor Vogel- en Natuurwacht Flevoland
REFRESH-INTERVAL;VALUE=DURATION:PT1H
X-Robots-Tag:noindex
X-PUBLISHED-TTL:PT1H
BEGIN:VTIMEZONE
TZID:Europe/Amsterdam
BEGIN:DAYLIGHT
TZOFFSETFROM:+0100
TZOFFSETTO:+0200
TZNAME:CEST
DTSTART:20240331T010000
END:DAYLIGHT
BEGIN:STANDARD
TZOFFSETFROM:+0200
TZOFFSETTO:+0100
TZNAME:CET
DTSTART:20241027T010000
END:STANDARD
BEGIN:DAYLIGHT
TZOFFSETFROM:+0100
TZOFFSETTO:+0200
TZNAME:CEST
DTSTART:20250330T010000
END:DAYLIGHT
BEGIN:STANDARD
TZOFFSETFROM:+0200
TZOFFSETTO:+0100
TZNAME:CET
DTSTART:20251026T010000
END:STANDARD
BEGIN:DAYLIGHT
TZOFFSETFROM:+0100
TZOFFSETTO:+0200
TZNAME:CEST
DTSTART:20260329T010000
END:DAYLIGHT
BEGIN:STANDARD
TZOFFSETFROM:+0200
TZOFFSETTO:+0100
TZNAME:CET
DTSTART:20261025T010000
END:STANDARD
END:VTIMEZONE
BEGIN:VEVENT
DTSTART;TZID=Europe/Amsterdam:20250419T070000
DTEND;TZID=Europe/Amsterdam:20250419T130000
DTSTAMP:20260423T101328
CREATED:20250405T084210Z
LAST-MODIFIED:20250405T084210Z
UID:19581-1745046000-1745067600@www.vogelwachtflevoland.nl
SUMMARY:Ochtendexcursie Landje van Geijsel o.l.v. Anita Riemersma
DESCRIPTION:Zaterdag 19 april: ochtendexcursie Landje van Geijsel o.l.v. Anita Riemersma\nBij Ouderkerk aan de Amstel ligt het Landje van Geijsel. Een gebiedje dat rijk is aan watervogels en steltlopers\, omdat elk voorjaar het weiland tijdelijk onder water wordt gezet door natuurboer Jan Geijsel. Dat weten de vogels wel te waarderen! In maart en april zijn hier onder andere de Grutto\, Tureluur\, Kleine Plevier\, Kievit\, Watersnip\, Witte Kwikstaart en diverse soorten eenden te zien. Deze excursie is zeker ook geschikt voor beginnende vogelaars. Ga je mee kijken wat we zoal kunnen vinden?\nAanmelden kan via activiteiten@vogelwachtflevoland.nl (er is nog 1 plaats over)\n\nŠ Anita Riemersma &ndash; Landje van Geijsel
URL:https://www.vogelwachtflevoland.nl/event/ochtendexcursie-landje-van-geijsel-o-l-v-anita-riemersma/
END:VEVENT
END:VCALENDAR