BEGIN:VCALENDAR
VERSION:2.0
PRODID:-//Vogel- en Natuurwacht Flevoland - ECPv6.15.20//NONSGML v1.0//EN
CALSCALE:GREGORIAN
METHOD:PUBLISH
X-ORIGINAL-URL:https://www.vogelwachtflevoland.nl
X-WR-CALDESC:Evenementen voor Vogel- en Natuurwacht Flevoland
REFRESH-INTERVAL;VALUE=DURATION:PT1H
X-Robots-Tag:noindex
X-PUBLISHED-TTL:PT1H
BEGIN:VTIMEZONE
TZID:Europe/Amsterdam
BEGIN:DAYLIGHT
TZOFFSETFROM:+0100
TZOFFSETTO:+0200
TZNAME:CEST
DTSTART:20240331T010000
END:DAYLIGHT
BEGIN:STANDARD
TZOFFSETFROM:+0200
TZOFFSETTO:+0100
TZNAME:CET
DTSTART:20241027T010000
END:STANDARD
BEGIN:DAYLIGHT
TZOFFSETFROM:+0100
TZOFFSETTO:+0200
TZNAME:CEST
DTSTART:20250330T010000
END:DAYLIGHT
BEGIN:STANDARD
TZOFFSETFROM:+0200
TZOFFSETTO:+0100
TZNAME:CET
DTSTART:20251026T010000
END:STANDARD
BEGIN:DAYLIGHT
TZOFFSETFROM:+0100
TZOFFSETTO:+0200
TZNAME:CEST
DTSTART:20260329T010000
END:DAYLIGHT
BEGIN:STANDARD
TZOFFSETFROM:+0200
TZOFFSETTO:+0100
TZNAME:CET
DTSTART:20261025T010000
END:STANDARD
END:VTIMEZONE
BEGIN:VEVENT
DTSTART;TZID=Europe/Amsterdam:20250326T200000
DTEND;TZID=Europe/Amsterdam:20250326T220000
DTSTAMP:20260423T063057
CREATED:20250310T155508Z
LAST-MODIFIED:20250310T155508Z
UID:19514-1743019200-1743026400@www.vogelwachtflevoland.nl
SUMMARY:Lezing : Trektellen door Hugo Wieleman
DESCRIPTION:Elk jaar is het weer een verrassing. Wanneer zie je je eerste Boompieper van het seizoen? Trektellers kunnen er bijna de klok op gelijk zetten. Onder specifieke omstandigheden zijn bepaalde soorten nou eenmaal te verwachten. In deze lezing vertelt Hugo ons hoe Flevoland in de &rsquo;trektelmarkt&rsquo; ligt\, wat de juiste omstandigheden zijn om spektakel te verwachten\, wat de verschillen tussen de telposten in de provincie zijn en welke soorten typische trektelpostsoorten zijn.\nAlvast een tipje van de sluier: als Flevolandse vogelaars mogen wij ons best gelukkig prijzen!\n\nŠ Hugo Wieleman &ndash; tellers bij de trektelpost Kamperhoek
URL:https://www.vogelwachtflevoland.nl/event/lezing-trektellen-door-hugo-wieleman/
CATEGORIES:Lezing
END:VEVENT
END:VCALENDAR