BEGIN:VCALENDAR
VERSION:2.0
PRODID:-//Vogel- en Natuurwacht Flevoland - ECPv6.15.20//NONSGML v1.0//EN
CALSCALE:GREGORIAN
METHOD:PUBLISH
X-ORIGINAL-URL:https://www.vogelwachtflevoland.nl
X-WR-CALDESC:Evenementen voor Vogel- en Natuurwacht Flevoland
REFRESH-INTERVAL;VALUE=DURATION:PT1H
X-Robots-Tag:noindex
X-PUBLISHED-TTL:PT1H
BEGIN:VTIMEZONE
TZID:Europe/Amsterdam
BEGIN:DAYLIGHT
TZOFFSETFROM:+0100
TZOFFSETTO:+0200
TZNAME:CEST
DTSTART:20240331T010000
END:DAYLIGHT
BEGIN:STANDARD
TZOFFSETFROM:+0200
TZOFFSETTO:+0100
TZNAME:CET
DTSTART:20241027T010000
END:STANDARD
BEGIN:DAYLIGHT
TZOFFSETFROM:+0100
TZOFFSETTO:+0200
TZNAME:CEST
DTSTART:20250330T010000
END:DAYLIGHT
BEGIN:STANDARD
TZOFFSETFROM:+0200
TZOFFSETTO:+0100
TZNAME:CET
DTSTART:20251026T010000
END:STANDARD
BEGIN:DAYLIGHT
TZOFFSETFROM:+0100
TZOFFSETTO:+0200
TZNAME:CEST
DTSTART:20260329T010000
END:DAYLIGHT
BEGIN:STANDARD
TZOFFSETFROM:+0200
TZOFFSETTO:+0100
TZNAME:CET
DTSTART:20261025T010000
END:STANDARD
END:VTIMEZONE
BEGIN:VEVENT
DTSTART;TZID=Europe/Amsterdam:20250322T070000
DTEND;TZID=Europe/Amsterdam:20250322T130000
DTSTAMP:20260423T011153
CREATED:20250310T155128Z
LAST-MODIFIED:20250310T155945Z
UID:19511-1742626800-1742648400@www.vogelwachtflevoland.nl
SUMMARY:Ochtendexcursie Heide / Veluwe o.l.v. Rene Alma
DESCRIPTION:Direct aan de overzijde van de smalle Randmeren liggen de zandgronden van het Veluwemassief. Net even anders dan de zeeklei polders van Flevoland. Een mix van stuifzanden\, heidevelden en bossen. Met vanzelfsprekend iets anders samengestelde vogelpopulaties. Soorten die we daar wel kunnen treffen\, zoals Glanskop\, Kuifmees\, Zwarte specht\, Boomleeuwerik en Geelgors\, zijn maar zelden te vinden in ons eigen werkgebied.\nWe gaan achter Ermelo\, in het vierkant tussen Harderwijk\, Putten\, Garderen en Elspeet\, de bossen en heiden afspeuren: Speulderbos en Ermelose heide. Met een schuin oog naar boven waar de voorjaarstrek waarschijnlijk al goed op gang is. Wie weet ook spotten we een wolf! Of een zandhagedis of zandbijtjes onder de Roodborsttapuiten\, tussen de bijzondere korstmossen\, dat zou ook al tof zijn\, toch?\nHeb je zin om mee te gaan?\nAanmelden voor de excursies die in de agenda zijn genoemd via activiteiten@vogelwachtflevoland.nl met vermelding van de betreffende excursie\, de datum\, je naam en je mobiele nummer.\nVoor deze excursie komt u op de wachtlijst te staan (maximum aantal bereikt)\n\nŠ Anita Riemersma &ndash; Speulderbos
URL:https://www.vogelwachtflevoland.nl/event/ochtendexcursie-heide-veluwe-o-l-v-rene-alma/
CATEGORIES:Excursie
END:VEVENT
END:VCALENDAR