BEGIN:VCALENDAR
VERSION:2.0
PRODID:-//Vogel- en Natuurwacht Flevoland - ECPv6.15.20//NONSGML v1.0//EN
CALSCALE:GREGORIAN
METHOD:PUBLISH
X-ORIGINAL-URL:https://www.vogelwachtflevoland.nl
X-WR-CALDESC:Evenementen voor Vogel- en Natuurwacht Flevoland
REFRESH-INTERVAL;VALUE=DURATION:PT1H
X-Robots-Tag:noindex
X-PUBLISHED-TTL:PT1H
BEGIN:VTIMEZONE
TZID:Europe/Amsterdam
BEGIN:DAYLIGHT
TZOFFSETFROM:+0100
TZOFFSETTO:+0200
TZNAME:CEST
DTSTART:20230326T010000
END:DAYLIGHT
BEGIN:STANDARD
TZOFFSETFROM:+0200
TZOFFSETTO:+0100
TZNAME:CET
DTSTART:20231029T010000
END:STANDARD
BEGIN:DAYLIGHT
TZOFFSETFROM:+0100
TZOFFSETTO:+0200
TZNAME:CEST
DTSTART:20240331T010000
END:DAYLIGHT
BEGIN:STANDARD
TZOFFSETFROM:+0200
TZOFFSETTO:+0100
TZNAME:CET
DTSTART:20241027T010000
END:STANDARD
BEGIN:DAYLIGHT
TZOFFSETFROM:+0100
TZOFFSETTO:+0200
TZNAME:CEST
DTSTART:20250330T010000
END:DAYLIGHT
BEGIN:STANDARD
TZOFFSETFROM:+0200
TZOFFSETTO:+0100
TZNAME:CET
DTSTART:20251026T010000
END:STANDARD
END:VTIMEZONE
BEGIN:VEVENT
DTSTART;TZID=Europe/Amsterdam:20240925T200000
DTEND;TZID=Europe/Amsterdam:20240925T220000
DTSTAMP:20260421T082934
CREATED:20240913T225346Z
LAST-MODIFIED:20240913T225346Z
UID:19003-1727294400-1727301600@www.vogelwachtflevoland.nl
SUMMARY:Lezing Klapekster door Paul van der Poel
DESCRIPTION:Deze lezing gaat over slechts één soort\, al zullen zo nu en dan andere vogelsoorten en diverse vertegenwoordigers van andere diergroepen de revue passeren. De klapekster zal met alle kenmerken ten tonele gevoerd worden\, zowel wat betreft uiterlijk als haar uitzonderlijke leefwijze. Ook het voorkomen van de klapekster qua geografische verspreiding en qua habitat wordt behandeld. Daarna volgt iets over de klapekster als overwinteraar in het Gooi\, in het bijzonder de Tafelbergheide. Wanneer de tijd het toelaat vertelt Paul over de ervaringen die hij had in Polen bij het nest van een paartje klapeksters. \n\nFoto Paul van der Poel &ndash; Klapekster
URL:https://www.vogelwachtflevoland.nl/event/lezing-klapekster-door-paul-van-der-poel/
LOCATION:Stad & Natuur\, Kemphaanstraat 1\, Almere\, 1358 AD\, Nederland
CATEGORIES:Lezing
END:VEVENT
END:VCALENDAR