BEGIN:VCALENDAR
VERSION:2.0
PRODID:-//Vogel- en Natuurwacht Flevoland - ECPv6.15.20//NONSGML v1.0//EN
CALSCALE:GREGORIAN
METHOD:PUBLISH
X-ORIGINAL-URL:https://www.vogelwachtflevoland.nl
X-WR-CALDESC:Evenementen voor Vogel- en Natuurwacht Flevoland
REFRESH-INTERVAL;VALUE=DURATION:PT1H
X-Robots-Tag:noindex
X-PUBLISHED-TTL:PT1H
BEGIN:VTIMEZONE
TZID:Europe/Amsterdam
BEGIN:DAYLIGHT
TZOFFSETFROM:+0100
TZOFFSETTO:+0200
TZNAME:CEST
DTSTART:20230326T010000
END:DAYLIGHT
BEGIN:STANDARD
TZOFFSETFROM:+0200
TZOFFSETTO:+0100
TZNAME:CET
DTSTART:20231029T010000
END:STANDARD
BEGIN:DAYLIGHT
TZOFFSETFROM:+0100
TZOFFSETTO:+0200
TZNAME:CEST
DTSTART:20240331T010000
END:DAYLIGHT
BEGIN:STANDARD
TZOFFSETFROM:+0200
TZOFFSETTO:+0100
TZNAME:CET
DTSTART:20241027T010000
END:STANDARD
BEGIN:DAYLIGHT
TZOFFSETFROM:+0100
TZOFFSETTO:+0200
TZNAME:CEST
DTSTART:20250330T010000
END:DAYLIGHT
BEGIN:STANDARD
TZOFFSETFROM:+0200
TZOFFSETTO:+0100
TZNAME:CET
DTSTART:20251026T010000
END:STANDARD
END:VTIMEZONE
BEGIN:VEVENT
DTSTART;TZID=Europe/Amsterdam:20240807T190000
DTEND;TZID=Europe/Amsterdam:20240807T220000
DTSTAMP:20260422T192141
CREATED:20240712T181626Z
LAST-MODIFIED:20240712T181626Z
UID:18961-1723057200-1723068000@www.vogelwachtflevoland.nl
SUMMARY:Opschoonavond Dashorstdijk
DESCRIPTION:We gaan met zoveel mogelijk donateurs (anderen zijn natuurlijk ook welkom!) zwerfafval opruimen op de Dashorstdijk. Nuttig en gezellig!  Deze activiteit duurt van 19.00 tot uiterlijk 22.00 uur\, maar ook als je maar een uurtje wilt of kunt komen helpen\, ben je van harte welkom. De gemeente stelt materialen (onder andere grijpers) ter beschikking\, die je na afloop mag houden. Heb je eigen materiaal (grijper\, ring\, handschoenen)? neem dat dan s.v.p. mee. Achteraf wordt het door ons verzamelde zwerfafval door de gemeente opgehaald. Samen maken we een stukje Almere schoon.   \nIn verband met de aanvraag van materialen is aanmelden nodig via activiteiten@vogelwachtflevoland.nl onder vermelding van je mobiele nummer. Er zijn al een  aantal aanmeldingen\, maar hoe meer hoe beter! Je kunt nog steeds meedoen!
URL:https://www.vogelwachtflevoland.nl/event/opschoonavond-dashorstdijk/
END:VEVENT
END:VCALENDAR