BEGIN:VCALENDAR
VERSION:2.0
PRODID:-//Vogel- en Natuurwacht Flevoland - ECPv6.15.20//NONSGML v1.0//EN
CALSCALE:GREGORIAN
METHOD:PUBLISH
X-ORIGINAL-URL:https://www.vogelwachtflevoland.nl
X-WR-CALDESC:Evenementen voor Vogel- en Natuurwacht Flevoland
REFRESH-INTERVAL;VALUE=DURATION:PT1H
X-Robots-Tag:noindex
X-PUBLISHED-TTL:PT1H
BEGIN:VTIMEZONE
TZID:Europe/Amsterdam
BEGIN:DAYLIGHT
TZOFFSETFROM:+0100
TZOFFSETTO:+0200
TZNAME:CEST
DTSTART:20230326T010000
END:DAYLIGHT
BEGIN:STANDARD
TZOFFSETFROM:+0200
TZOFFSETTO:+0100
TZNAME:CET
DTSTART:20231029T010000
END:STANDARD
BEGIN:DAYLIGHT
TZOFFSETFROM:+0100
TZOFFSETTO:+0200
TZNAME:CEST
DTSTART:20240331T010000
END:DAYLIGHT
BEGIN:STANDARD
TZOFFSETFROM:+0200
TZOFFSETTO:+0100
TZNAME:CET
DTSTART:20241027T010000
END:STANDARD
BEGIN:DAYLIGHT
TZOFFSETFROM:+0100
TZOFFSETTO:+0200
TZNAME:CEST
DTSTART:20250330T010000
END:DAYLIGHT
BEGIN:STANDARD
TZOFFSETFROM:+0200
TZOFFSETTO:+0100
TZNAME:CET
DTSTART:20251026T010000
END:STANDARD
END:VTIMEZONE
BEGIN:VEVENT
DTSTART;TZID=Europe/Amsterdam:20240727T070000
DTEND;TZID=Europe/Amsterdam:20240727T170000
DTSTAMP:20260422T172554
CREATED:20240712T181909Z
LAST-MODIFIED:20240712T181909Z
UID:18963-1722063600-1722099600@www.vogelwachtflevoland.nl
SUMMARY:Dagexcursie Tusschenwater
DESCRIPTION:Op zaterdag 27 juli kun je met Wim Kleefstra voor een dagexcursie mee naar het Tusschenwater. We kunnen de auto&rsquo;s aan de rand van het gebied parkeren. Het plan is om via het fietspad het gebied al wandelend (ongeveer één kilometer heen) en stilstaand te doorkruisen\, en vanaf een dijkje het gebied in te kijken. \nHet Tusschenwater is een vrij nieuw natuurgebied ten oosten van Zuidlaren in Drenthe\, in het dal van de Hunze. Het omvat ondiepe waterpartijen\, plas-drasgebiedjes\, er staan bomen\, struiken en riet in het water en daarnaast zijn er gedeeltes met zandige eilandjes en slibvlaktes en hoger gelegen kruidige graslanden. Veel biotopen dus\, die het gebied aantrekkelijk maken voor een diversiteit aan broedvogels als Steltkluut\, Lepelaar\, Geoorde Fuut\, pleviertjes en weidevogels. Witwang- en Zwarte Sterns komen geregeld foerageren. En ongetwijfeld zullen we ook vlinders en libellen zien. \nWil je mee\, meld je dan aan via activiteiten@vogelwachtflevoland.nl onder vermelding van je mobiele nummer. Maximaal aantal deelnemers: 14.
URL:https://www.vogelwachtflevoland.nl/event/dagexcursie-tusschenwater/
END:VEVENT
END:VCALENDAR