BEGIN:VCALENDAR
VERSION:2.0
PRODID:-//Vogel- en Natuurwacht Flevoland - ECPv6.15.20//NONSGML v1.0//EN
CALSCALE:GREGORIAN
METHOD:PUBLISH
X-ORIGINAL-URL:https://www.vogelwachtflevoland.nl
X-WR-CALDESC:Evenementen voor Vogel- en Natuurwacht Flevoland
REFRESH-INTERVAL;VALUE=DURATION:PT1H
X-Robots-Tag:noindex
X-PUBLISHED-TTL:PT1H
BEGIN:VTIMEZONE
TZID:Europe/Amsterdam
BEGIN:DAYLIGHT
TZOFFSETFROM:+0100
TZOFFSETTO:+0200
TZNAME:CEST
DTSTART:20230326T010000
END:DAYLIGHT
BEGIN:STANDARD
TZOFFSETFROM:+0200
TZOFFSETTO:+0100
TZNAME:CET
DTSTART:20231029T010000
END:STANDARD
BEGIN:DAYLIGHT
TZOFFSETFROM:+0100
TZOFFSETTO:+0200
TZNAME:CEST
DTSTART:20240331T010000
END:DAYLIGHT
BEGIN:STANDARD
TZOFFSETFROM:+0200
TZOFFSETTO:+0100
TZNAME:CET
DTSTART:20241027T010000
END:STANDARD
BEGIN:DAYLIGHT
TZOFFSETFROM:+0100
TZOFFSETTO:+0200
TZNAME:CEST
DTSTART:20250330T010000
END:DAYLIGHT
BEGIN:STANDARD
TZOFFSETFROM:+0200
TZOFFSETTO:+0100
TZNAME:CET
DTSTART:20251026T010000
END:STANDARD
END:VTIMEZONE
BEGIN:VEVENT
DTSTART;TZID=Europe/Amsterdam:20240622T070000
DTEND;TZID=Europe/Amsterdam:20240622T170000
DTSTAMP:20260425T053154
CREATED:20240614T204521Z
LAST-MODIFIED:20240614T204521Z
UID:18841-1719039600-1719075600@www.vogelwachtflevoland.nl
SUMMARY:OrchideeÃ«n kijken in Noord-Hollandse duinen
DESCRIPTION:Voor waarneming van bijzondere orchideeën\, de meest intrigerende groep onder de planten\, gaan veel liefhebbers naar Limburg. Terecht\, want daar komen de meeste verschillende soorten voor. Echter wel een grote reis voor 1 dag. Voor ons in Flevoland is er een orchideeën-toplocatie dichter bij huis. We rijden in een uur naar de Zuidpier in IJmuiden\, wat we vaker hebben gedaan voor de vogels. Weinigen weten dat daar ook een van de beste gebieden van het land voor orchideeën naast gelegen is. Onder leiding van André van den Berg gaan we malle groene plantjes zoeken\, zoals de Groenknolorchis en Honingorchis\, zeldzame soorten.   \nVorig jaar was dit een erg leuke excursie met prachtige orchideeën en andere mooie plantensoorten.  \nMeld je aan voor deze excursie door een mail te sturen naar activiteiten@vogelwachtflevoland.nl onder vermelding van je mobiele nummer. Let op: het maximum aantal deelnemers is 10!
URL:https://www.vogelwachtflevoland.nl/event/orchideeen-kijken-in-noord-hollandse-duinen-2/
CATEGORIES:Excursie
END:VEVENT
END:VCALENDAR