BEGIN:VCALENDAR
VERSION:2.0
PRODID:-//Vogel- en Natuurwacht Flevoland - ECPv6.15.20//NONSGML v1.0//EN
CALSCALE:GREGORIAN
METHOD:PUBLISH
X-ORIGINAL-URL:https://www.vogelwachtflevoland.nl
X-WR-CALDESC:Evenementen voor Vogel- en Natuurwacht Flevoland
REFRESH-INTERVAL;VALUE=DURATION:PT1H
X-Robots-Tag:noindex
X-PUBLISHED-TTL:PT1H
BEGIN:VTIMEZONE
TZID:Europe/Amsterdam
BEGIN:DAYLIGHT
TZOFFSETFROM:+0100
TZOFFSETTO:+0200
TZNAME:CEST
DTSTART:20230326T010000
END:DAYLIGHT
BEGIN:STANDARD
TZOFFSETFROM:+0200
TZOFFSETTO:+0100
TZNAME:CET
DTSTART:20231029T010000
END:STANDARD
BEGIN:DAYLIGHT
TZOFFSETFROM:+0100
TZOFFSETTO:+0200
TZNAME:CEST
DTSTART:20240331T010000
END:DAYLIGHT
BEGIN:STANDARD
TZOFFSETFROM:+0200
TZOFFSETTO:+0100
TZNAME:CET
DTSTART:20241027T010000
END:STANDARD
BEGIN:DAYLIGHT
TZOFFSETFROM:+0100
TZOFFSETTO:+0200
TZNAME:CEST
DTSTART:20250330T010000
END:DAYLIGHT
BEGIN:STANDARD
TZOFFSETFROM:+0200
TZOFFSETTO:+0100
TZNAME:CET
DTSTART:20251026T010000
END:STANDARD
END:VTIMEZONE
BEGIN:VEVENT
DTSTART;TZID=Europe/Amsterdam:20240522T200000
DTEND;TZID=Europe/Amsterdam:20240522T220000
DTSTAMP:20260422T172449
CREATED:20240507T201518Z
LAST-MODIFIED:20240507T201518Z
UID:18820-1716408000-1716415200@www.vogelwachtflevoland.nl
SUMMARY:Lezing : De rode reiger door Henk van der Kooij
DESCRIPTION:Iedereen kent natuurlijk de Blauwe Reiger en tegenwoordig ook de Grote Zilverreiger. Maar hoe staat dat met de Purperreiger? Deze Afrikatrekker is veel minder bekend. \nHenk van der Kooij heeft in Wageningen gestudeerd. Zijn doctoraal-onderwerp was: De Rode Reiger in het Groene Hart van Holland (1975).\nHij weet zich bevoorrecht dat hij deze reiger al decennia landelijk mag en kan volgen.  \nAan de hand van een Powerpoint presentatie staat Henk stil bij de belangrijkste Nederlandse broedgebieden van de Purperreiger.\nHoe worden de kolonies geteld? Hoe doet de landelijke populatie het de laatste decennia? Welke gevaren bedreigen de purperreiger?\nWaar ze overwinteren ze in Afrika? Kortom een jaarrond-presentatie over deze boeiende reigersoort met zijn tropische kleuren.\nKom en geniet ook van dit fraaie schepsel! \n\nFoto: Henk van der Kooij &ndash; vier grote\, bijna vliegvlugge jonge Purperreigers\, nest in Meidoorn
URL:https://www.vogelwachtflevoland.nl/event/lezing-de-rode-reiger-door-henk-van-der-kooij/
LOCATION:Stad & Natuur\, Kemphaanstraat 1\, Almere\, 1358 AD\, Nederland
CATEGORIES:Lezing
END:VEVENT
END:VCALENDAR