BEGIN:VCALENDAR
VERSION:2.0
PRODID:-//Vogel- en Natuurwacht Flevoland - ECPv6.15.20//NONSGML v1.0//EN
CALSCALE:GREGORIAN
METHOD:PUBLISH
X-ORIGINAL-URL:https://www.vogelwachtflevoland.nl
X-WR-CALDESC:Evenementen voor Vogel- en Natuurwacht Flevoland
REFRESH-INTERVAL;VALUE=DURATION:PT1H
X-Robots-Tag:noindex
X-PUBLISHED-TTL:PT1H
BEGIN:VTIMEZONE
TZID:Europe/Amsterdam
BEGIN:DAYLIGHT
TZOFFSETFROM:+0100
TZOFFSETTO:+0200
TZNAME:CEST
DTSTART:20230326T010000
END:DAYLIGHT
BEGIN:STANDARD
TZOFFSETFROM:+0200
TZOFFSETTO:+0100
TZNAME:CET
DTSTART:20231029T010000
END:STANDARD
BEGIN:DAYLIGHT
TZOFFSETFROM:+0100
TZOFFSETTO:+0200
TZNAME:CEST
DTSTART:20240331T010000
END:DAYLIGHT
BEGIN:STANDARD
TZOFFSETFROM:+0200
TZOFFSETTO:+0100
TZNAME:CET
DTSTART:20241027T010000
END:STANDARD
BEGIN:DAYLIGHT
TZOFFSETFROM:+0100
TZOFFSETTO:+0200
TZNAME:CEST
DTSTART:20250330T010000
END:DAYLIGHT
BEGIN:STANDARD
TZOFFSETFROM:+0200
TZOFFSETTO:+0100
TZNAME:CET
DTSTART:20251026T010000
END:STANDARD
END:VTIMEZONE
BEGIN:VEVENT
DTSTART;TZID=Europe/Amsterdam:20240424T200000
DTEND;TZID=Europe/Amsterdam:20240424T220000
DTSTAMP:20260423T141214
CREATED:20240412T225233Z
LAST-MODIFIED:20240412T225323Z
UID:18798-1713988800-1713996000@www.vogelwachtflevoland.nl
SUMMARY:Lezing Bomen in Flevoland door Rinus Hofs
DESCRIPTION:Een avond over Flevolandse bomen en struiken in bossen\, parken en lanen. Welke soorten zijn er geplant op de drooggevallen zeebodem en wat zijn hun kenmerken? Bomen en struiken met een verhaal in de nog jonge geschiedenis van Flevoland. Van 1982 tot 1989 werkte ik bij de voormalige Rijksdienst voor de IJsselmeerpolders. In die jaren de grootste planter van bossen in Nederland. Vanwege mijn standplaats Almere\, ben ik er ook gaan wonen. Na wat omzwervingen in het Gooi en Amsterdam werk ik nu voor de gemeente Amstelveen en Aalsmeer als stadsecoloog. \nDe lezing zal op zaterdag 8 juni worden gevolgd door een bomenexcursie in het Vroege Vogelbos.
URL:https://www.vogelwachtflevoland.nl/event/lezing-bomen-in-flevoland-door-rinus-hofs/
LOCATION:Stad & Natuur\, Kemphaanstraat 1\, Almere\, 1358 AD\, Nederland
CATEGORIES:Lezing
END:VEVENT
END:VCALENDAR