BEGIN:VCALENDAR
VERSION:2.0
PRODID:-//Vogel- en Natuurwacht Flevoland - ECPv6.15.20//NONSGML v1.0//EN
CALSCALE:GREGORIAN
METHOD:PUBLISH
X-ORIGINAL-URL:https://www.vogelwachtflevoland.nl
X-WR-CALDESC:Evenementen voor Vogel- en Natuurwacht Flevoland
REFRESH-INTERVAL;VALUE=DURATION:PT1H
X-Robots-Tag:noindex
X-PUBLISHED-TTL:PT1H
BEGIN:VTIMEZONE
TZID:Europe/Amsterdam
BEGIN:DAYLIGHT
TZOFFSETFROM:+0100
TZOFFSETTO:+0200
TZNAME:CEST
DTSTART:20230326T010000
END:DAYLIGHT
BEGIN:STANDARD
TZOFFSETFROM:+0200
TZOFFSETTO:+0100
TZNAME:CET
DTSTART:20231029T010000
END:STANDARD
BEGIN:DAYLIGHT
TZOFFSETFROM:+0100
TZOFFSETTO:+0200
TZNAME:CEST
DTSTART:20240331T010000
END:DAYLIGHT
BEGIN:STANDARD
TZOFFSETFROM:+0200
TZOFFSETTO:+0100
TZNAME:CET
DTSTART:20241027T010000
END:STANDARD
BEGIN:DAYLIGHT
TZOFFSETFROM:+0100
TZOFFSETTO:+0200
TZNAME:CEST
DTSTART:20250330T010000
END:DAYLIGHT
BEGIN:STANDARD
TZOFFSETFROM:+0200
TZOFFSETTO:+0100
TZNAME:CET
DTSTART:20251026T010000
END:STANDARD
END:VTIMEZONE
BEGIN:VEVENT
DTSTART;TZID=Europe/Amsterdam:20240225T120000
DTEND;TZID=Europe/Amsterdam:20240225T170000
DTSTAMP:20260424T204304
CREATED:20240206T125659Z
LAST-MODIFIED:20240206T141551Z
UID:18742-1708862400-1708880400@www.vogelwachtflevoland.nl
SUMMARY:Middagexcursie Eempolders
DESCRIPTION:Op 25 februari organiseren we een middagexcursie naar een gebied dat op steenworp afstand ligt van Flevoland: de Eempolders. Dit betreft het gebied tussen Bunschoten/ Spakenburg/ Eemdijk\, het Eemmeer en de Stichtse Brug. De Eempolders zijn een prachtig voorbeeld van de oude veenontginningen uit de Middeleeuwen-typisch oud polderlandschap. In de winter grazen hier grote groepen kolganzen en brandganzen. In het voorjaar is dit een van de mooiste plekken in Nederland om naar weidevogels te kijken zoals de grutto\, kievit\, tureluur\, kluut\, scholekster\, kemphaan\, bontbekplevier\, slobeend\, krakeend\, zomertaling\, gele kwikstaart\, veldleeuwerik\, ooievaar\, lepelaar en graspieper.\nOoievaar\, grote zilverreiger\, kleine zilverreiger en blauwe reiger laten zich ook aantrekken door de ondiepe wateren in het gebied waar rietkragen omheen groeien en dat trekt rietvogels als rietgors en baardman aan. \nDe Eempolder is ook weidegebied waar talloze ganzen overwinteren. Brandgans\, grauwe gans en kolgans\, vaak in indrukwekkende aantallen. Smient\, wintertaling\, een enkele pijlstaart\, witgat\, zwarte ruiter\, goudplevier\, zilverplevier\, bonte strandloper\, oeverloper en watersnip vergezellen de ganzen in de winter. Al dat kleine grut trekt ook roofvogels aan zoals de slechtvalk en de blauwe kiekendief. In dit gebied maken we ook een goede kans op een velduil\, die hier jaarlijks overwinteren. Eind februari\, begin maart arriveren de eerste grutto&rsquo;s weer uit hun overwinteringsgebied. Ze staan soms met honderden tegelijk op een kluitje. Als een blauwe kiekendief of slechtvalk overvliegt\, vliegen alle grutto&rsquo;s de lucht in\, wat een indrukwekkend gezicht is. Vogels kijken in de Eempolder. De mooiste tijd is die van februari tot en met eind mei. De tijd van ganzen\, eenden\, steltlopers en dan vooral: de grutto&rsquo;s. We hopen de eersten te verwelkomen! \nHet maximum aantal deelnemers is 15. Dit aantal is al bereikt.\nIndien je je opgeeft via activiteiten@vogelwachtflevoland.nl kom je op de wachtlijst te staan. Als iemand uit valt\, kan je als nog mee. \n\nFoto: Nelleke Seegers &ndash; Brandganzen in de Eempolders
URL:https://www.vogelwachtflevoland.nl/event/middagexcursie-eempolders/
CATEGORIES:Excursie
END:VEVENT
END:VCALENDAR