BEGIN:VCALENDAR
VERSION:2.0
PRODID:-//Vogel- en Natuurwacht Flevoland - ECPv6.15.20//NONSGML v1.0//EN
CALSCALE:GREGORIAN
METHOD:PUBLISH
X-ORIGINAL-URL:https://www.vogelwachtflevoland.nl
X-WR-CALDESC:Evenementen voor Vogel- en Natuurwacht Flevoland
REFRESH-INTERVAL;VALUE=DURATION:PT1H
X-Robots-Tag:noindex
X-PUBLISHED-TTL:PT1H
BEGIN:VTIMEZONE
TZID:Europe/Amsterdam
BEGIN:DAYLIGHT
TZOFFSETFROM:+0100
TZOFFSETTO:+0200
TZNAME:CEST
DTSTART:20220327T010000
END:DAYLIGHT
BEGIN:STANDARD
TZOFFSETFROM:+0200
TZOFFSETTO:+0100
TZNAME:CET
DTSTART:20221030T010000
END:STANDARD
BEGIN:DAYLIGHT
TZOFFSETFROM:+0100
TZOFFSETTO:+0200
TZNAME:CEST
DTSTART:20230326T010000
END:DAYLIGHT
BEGIN:STANDARD
TZOFFSETFROM:+0200
TZOFFSETTO:+0100
TZNAME:CET
DTSTART:20231029T010000
END:STANDARD
BEGIN:DAYLIGHT
TZOFFSETFROM:+0100
TZOFFSETTO:+0200
TZNAME:CEST
DTSTART:20240331T010000
END:DAYLIGHT
BEGIN:STANDARD
TZOFFSETFROM:+0200
TZOFFSETTO:+0100
TZNAME:CET
DTSTART:20241027T010000
END:STANDARD
END:VTIMEZONE
BEGIN:VEVENT
DTSTART;TZID=Europe/Amsterdam:20231227T200000
DTEND;TZID=Europe/Amsterdam:20231227T220000
DTSTAMP:20260425T035357
CREATED:20231024T001302Z
LAST-MODIFIED:20231024T001302Z
UID:18659-1703707200-1703714400@www.vogelwachtflevoland.nl
SUMMARY:Lezing  : Otter in Flevoland door Jeroen Reinhold
DESCRIPTION:Op woensdag 27 december verzorgt Jeroen Reinhold de lezing &ldquo;Otter in Flevoland&rdquo; in het Natuurbelevingcentrum De Oostvaarders. Aanvang 20:00 \nIn 2002 zijn er otters geherintroduceerd in Nederland op de locatie de Weerribben en Wieden in Overijssel. Deze otters wisten zich goed te vestigen en de otter breidde zich al snel uit naar Flevoland. Eerst in de Noordoostpolder maar rond 2012 ook in Oostelijk en Zuidelijk Flevoland. Een van de eerste waarnemingen van de otter in dit gebied betrof keutels aan de buitenzijde van het otterverblijf in het Natuurpark Lelystad. Almere is ondertussen ook bezet.  \nJeroen Reinhold is werkzaam bij Landschapsbeheer Flevoland en coördineert de monitoring van de otter in Flevoland sinds 2012. Elke winter is hij wel op zoek naar de sporen van de otter en bezig met het oplossen van enkele knelpunten. \n\nFoto : Jeroen Reinhold
URL:https://www.vogelwachtflevoland.nl/event/lezing-otter-in-flevoland-door-jeroen-reinhold/
LOCATION:Natuurbelevingscentrum de Oostvaarders\, Oostvaardersbosplaats 1\, Almere\, Flevoland\, 1336 RZ\, Nederland
CATEGORIES:Lezing
END:VEVENT
END:VCALENDAR