BEGIN:VCALENDAR
VERSION:2.0
PRODID:-//Vogel- en Natuurwacht Flevoland - ECPv6.15.20//NONSGML v1.0//EN
CALSCALE:GREGORIAN
METHOD:PUBLISH
X-ORIGINAL-URL:https://www.vogelwachtflevoland.nl
X-WR-CALDESC:Evenementen voor Vogel- en Natuurwacht Flevoland
REFRESH-INTERVAL;VALUE=DURATION:PT1H
X-Robots-Tag:noindex
X-PUBLISHED-TTL:PT1H
BEGIN:VTIMEZONE
TZID:Europe/Amsterdam
BEGIN:DAYLIGHT
TZOFFSETFROM:+0100
TZOFFSETTO:+0200
TZNAME:CEST
DTSTART:20220327T010000
END:DAYLIGHT
BEGIN:STANDARD
TZOFFSETFROM:+0200
TZOFFSETTO:+0100
TZNAME:CET
DTSTART:20221030T010000
END:STANDARD
BEGIN:DAYLIGHT
TZOFFSETFROM:+0100
TZOFFSETTO:+0200
TZNAME:CEST
DTSTART:20230326T010000
END:DAYLIGHT
BEGIN:STANDARD
TZOFFSETFROM:+0200
TZOFFSETTO:+0100
TZNAME:CET
DTSTART:20231029T010000
END:STANDARD
BEGIN:DAYLIGHT
TZOFFSETFROM:+0100
TZOFFSETTO:+0200
TZNAME:CEST
DTSTART:20240331T010000
END:DAYLIGHT
BEGIN:STANDARD
TZOFFSETFROM:+0200
TZOFFSETTO:+0100
TZNAME:CET
DTSTART:20241027T010000
END:STANDARD
END:VTIMEZONE
BEGIN:VEVENT
DTSTART;TZID=Europe/Amsterdam:20231021T070000
DTEND;TZID=Europe/Amsterdam:20231021T130000
DTSTAMP:20260426T034220
CREATED:20231003T081318Z
LAST-MODIFIED:20231003T081318Z
UID:18619-1697871600-1697893200@www.vogelwachtflevoland.nl
SUMMARY:Ochtendexcursie Vogeltrek
DESCRIPTION:De zuidwaartse trek van Europese broedvogels bereikt een piek in het najaar. Bij gunstige (tegen-!) wind komen vele soorten in soms spectaculaire aantallen laag overgevlogen. Daartussen is het opletten op dat ene afwijkende vliegbeeld of roepje van een zeldzamere soort. Dat is voor de specialisten. Maar voor iedereen is een ochtend met een lucht vol vogels op trek een indrukwekkende belevenis. De beste plek voor de excursie is nu nog niet bekend. Dat is afhankelijk van radarinformatie en waarnemingen in de laatste dagen daarvoor. Wil je een ochtend trekvogels waarnemen mee beleven? Meld je dan aan bij activiteiten@vogelwachtflevoland.nl onder vermelding van je mobiele nummer.\nHet maximum aantal deelnemers is 18. \nFoto: Anita Riemersma
URL:https://www.vogelwachtflevoland.nl/event/ochtendexcursie-vogeltrek/
END:VEVENT
END:VCALENDAR