BEGIN:VCALENDAR
VERSION:2.0
PRODID:-//Vogel- en Natuurwacht Flevoland - ECPv6.15.20//NONSGML v1.0//EN
CALSCALE:GREGORIAN
METHOD:PUBLISH
X-ORIGINAL-URL:https://www.vogelwachtflevoland.nl
X-WR-CALDESC:Evenementen voor Vogel- en Natuurwacht Flevoland
REFRESH-INTERVAL;VALUE=DURATION:PT1H
X-Robots-Tag:noindex
X-PUBLISHED-TTL:PT1H
BEGIN:VTIMEZONE
TZID:Europe/Amsterdam
BEGIN:DAYLIGHT
TZOFFSETFROM:+0100
TZOFFSETTO:+0200
TZNAME:CEST
DTSTART:20220327T010000
END:DAYLIGHT
BEGIN:STANDARD
TZOFFSETFROM:+0200
TZOFFSETTO:+0100
TZNAME:CET
DTSTART:20221030T010000
END:STANDARD
BEGIN:DAYLIGHT
TZOFFSETFROM:+0100
TZOFFSETTO:+0200
TZNAME:CEST
DTSTART:20230326T010000
END:DAYLIGHT
BEGIN:STANDARD
TZOFFSETFROM:+0200
TZOFFSETTO:+0100
TZNAME:CET
DTSTART:20231029T010000
END:STANDARD
BEGIN:DAYLIGHT
TZOFFSETFROM:+0100
TZOFFSETTO:+0200
TZNAME:CEST
DTSTART:20240331T010000
END:DAYLIGHT
BEGIN:STANDARD
TZOFFSETFROM:+0200
TZOFFSETTO:+0100
TZNAME:CET
DTSTART:20241027T010000
END:STANDARD
END:VTIMEZONE
BEGIN:VEVENT
DTSTART;TZID=Europe/Amsterdam:20230927T200000
DTEND;TZID=Europe/Amsterdam:20230927T220000
DTSTAMP:20260424T204054
CREATED:20230901T145915Z
LAST-MODIFIED:20230901T145915Z
UID:18616-1695844800-1695852000@www.vogelwachtflevoland.nl
SUMMARY:Lezing vogels kijken in Oman door Hugo Wieleman
DESCRIPTION:Op het Arabische Schiereiland komen veel unieke vogelsoorten voor. De iets geïsoleerde ligging\, te midden van Europa\, Azië en Afrika\, zorgt voor een bijzonder soortenspectrum. Oman is een van de best bereikbare landen in de regio en de afgelopen jaren erg populair onder vogelaars. Maar waarom precies? Welke specialiteiten komen daar voor? En hoe zit het nou met die recent ontdekte Omaanse Uil? In de kerstvakantie van 2022/2023 zijn tien vogelvrienden met elkaar naar Oman afgereisd voor een tweeweekse vogelvakantie. Op 27 september vertelt Hugo Wieleman de ervaringen van deze reis. Komt u ook?\n\nFoto: Hugo Wieleman &ndash; Zwarte Arend / Verreaux Eagle
URL:https://www.vogelwachtflevoland.nl/event/lezing-vogels-kijken-in-oman-door-hugo-wieleman/
LOCATION:Natuurbelevingscentrum de Oostvaarders\, Oostvaardersbosplaats 1\, Almere\, Flevoland\, 1336 RZ\, Nederland
CATEGORIES:Lezing
END:VEVENT
END:VCALENDAR